BEGIN:VCALENDAR
VERSION:2.0
PRODID:-//Lone Wolf - ECPv6.13.2//NONSGML v1.0//EN
CALSCALE:GREGORIAN
METHOD:PUBLISH
X-WR-CALNAME:Lone Wolf
X-ORIGINAL-URL:https://lonewolfcomedy.co.uk
X-WR-CALDESC:Events for Lone Wolf
REFRESH-INTERVAL;VALUE=DURATION:PT1H
X-Robots-Tag:noindex
X-PUBLISHED-TTL:PT1H
BEGIN:VTIMEZONE
TZID:UTC
BEGIN:STANDARD
TZOFFSETFROM:+0000
TZOFFSETTO:+0000
TZNAME:UTC
DTSTART:20240101T000000
END:STANDARD
END:VTIMEZONE
BEGIN:VEVENT
DTSTART;TZID=UTC:20240615T160000
DTEND;TZID=UTC:20240615T220000
DTSTAMP:20260425T160904
CREATED:20240416T221856Z
LAST-MODIFIED:20240527T155102Z
UID:23338-1718467200-1718488800@lonewolfcomedy.co.uk
SUMMARY:Tipi Fest\, June 15th 2024
DESCRIPTION:Lone Wolf Comedy Club feat. Zoe Lyons\, Hal Cruttended\, MC Andrew Bird\nShow details:\n \nZoe Lyons\nZoe took her first steps down the comedy path in 2003 after training as an actress at the Poor School in London. She went on to win the Funny Women Competition in 2004 and her debut Edinburgh show was nominated for the if.comedy newcomer award. In 2008 she won the Dave\, Funniest Joke of The Fringe Award. \nZoe has appeared in many TV shows including Mock the Week\, The Wright Stuff\, Michael McIntyre Roadshow and many more. \n“In the African jungle the lion is king\, in the Fringe comedy jungle Zoe Lyons is definitely a Queen\, she’ll pounce on you with her witty repartee and have you rolling about the floor in fits of hysterics.”\nONE4REVIEW.COM \n“Lyons lit up the stage for an hour with her genuine\, bitchy sarcastic humour that left everyone in stitches. I don’t think I have laughed so hard at a stand-up show in my life.”\nEDINBURGHGUIDE.COM \n“Always fizzling with indignation and throwing out a hugely enjoyable mix of brutal putdowns and richly funny stories\, Lyons has what it takes to delight any crowd.”\nTHE GUARDIAN \n \nHal Cruttenden\nHal Cruttenden is one of the top touring stand up comedians working in the UK and Ireland today\, as well as being a highly accomplished writer\, presenter and actor. \nHe has made several appearances on ‘Live at the Apollo’ (BBC1 & 2)\, ‘Have I Got News For You’ (BBC1)\, ‘The Royal Variety Performance’ (ITV1)\, ‘Would I Lie To You’ (BBC1) ‘The One Show’ (BBC1)\, ‘The Great British Bake Off: An Extra Slice’ (BBC2 & Channel 4) and ‘The Apprentice: You’re Fired’ (BBC2). \nHal presents a comedy rugby podcast with Dan Skinner called ‘Rugby Jubbly’\, as well as hosting a new streaming show for Saracens Rugby Club\, every Friday and Saturday called ‘The Huddle’. He’s also one of the most experienced and in demand hosts for corporate events in the country. \nTV also includes ‘Richard Osman’s House of Games’ (BBC2)\, ‘Mock the Week’ (BBC2)\, ‘Guessable’ (Comedy Central)\, ‘Celebrity Mastermind’ (BBC1)\, ‘Celebrity Chase (ITV1)\, ‘The Wright Stuff’ (Channel 5)\, ‘Edinburgh Comedy Fest Live’ (BBC3)\, ‘The Melbourne Comedy Festival Gala’ (Channel 10 Australia)\, ‘Just For Laughs Gala’ (CBC Canada)\, and ‘Celebrity Tipping Point’ (ITV1). \nHe’s toured extensively in the UK and Ireland over the last 8 years\, he has also taken shows to the Montreal\, Melbourne\, and New Zealand comedy festivals and he’s recorded three stand up specials for Next Up -‘Tough Luvvie’\, ‘Straight Outta Cruttenden’ and ‘Chubster’. Hal’s next tour\, ‘It’s Best You Hear it From Me’ starts in 2022. \nHal wrote and starred in his own sitcom\, ‘Hal’ on Radio 4\, as an actor he trained at the Central School of Speech and Drama\, he has appeared in ‘Shackleton’; ‘Eastenders’; ‘Touching Evil’\, ‘Bramwell’\, ‘Mrs Dalloway‘\, ‘Brexit’\, ‘Making News’ and ‘Orwell A Celebration’. \n  \n  \n \nAndrew Bird\nAndrew appeared on “The Russell Howard Hour” and supported Russell on tour including Bristol’s Ashton Gate Football stadium and six shows at The London Palladium. He’s also supported Rhod Gilbert\, Rob Brydon\, America’s Brian Regan and Michelle Wolfe on their only London shows and Michael McIntyre on an entire arena tour including Wembley and the O2. He’s written on the TV shows Jon Richardson’s Ultimate Worrier and 8 Out of 10 Cats Does Countdown. \n“A brilliantly funny comedian” – Russell Howard \n“Birdie supported me on my arena tour and made me laugh every\nnight. A truly excellent comedian” – Michael McIntyre \n  \n\nTimings\nDoors open: 6:30pm\nShow starts: 8pm \n\nBuy tickets:\nTickets for this show are £20 each. Tickets can be bought from WeGotTickets\, or contact the venue directly.
URL:https://lonewolfcomedy.co.uk/show/https-www-wegottickets-com-event-610434/
LOCATION:The Garden Tipi\, Bushy Lane\, Preston Bissett\, MK18 4ND\, United Kingdom
CATEGORIES:Comedy,Entertaiment,Event,Music
ATTACH;FMTTYPE=image/jpeg:https://lonewolfcomedy.co.uk/wp-content/uploads/2024/04/PRESTON-BISSETT-FESTIVAL-4.jpeg
END:VEVENT
END:VCALENDAR