BEGIN:VCALENDAR
VERSION:2.0
PRODID:-//Lone Wolf - ECPv6.13.2//NONSGML v1.0//EN
CALSCALE:GREGORIAN
METHOD:PUBLISH
X-WR-CALNAME:Lone Wolf
X-ORIGINAL-URL:https://lonewolfcomedy.co.uk
X-WR-CALDESC:Events for Lone Wolf
REFRESH-INTERVAL;VALUE=DURATION:PT1H
X-Robots-Tag:noindex
X-PUBLISHED-TTL:PT1H
BEGIN:VTIMEZONE
TZID:UTC
BEGIN:STANDARD
TZOFFSETFROM:+0000
TZOFFSETTO:+0000
TZNAME:UTC
DTSTART:20240101T000000
END:STANDARD
END:VTIMEZONE
BEGIN:VEVENT
DTSTART;TZID=UTC:20241213T190000
DTEND;TZID=UTC:20241213T220000
DTSTAMP:20260422T162931
CREATED:20240927T133545Z
LAST-MODIFIED:20240927T142747Z
UID:23447-1734116400-1734127200@lonewolfcomedy.co.uk
SUMMARY:Preston Bissett-Tipi\, December 13th 2024
DESCRIPTION:Lone Wolf Comedy Club feat. Esther Manito\, Ben Norris\, MC Andrew Bird\nShow details:\n \nEsther Manito\nLive at the Apollo star \nEsther Manito is Lebanese-British stand up comedian and winner of Best Show at the Leicester Comedy Festival. \nAfter reaching the finals of So You Think You’re Funny and the Funny Women awards\, her debut solo show led to an appearance on Live at the Apollo (BBC Two). \nIn addition to being the first female comedian to perform at Dubai Opera House\, Esther’s book “Don’t Panic I’m Islamic” was published and is available on Amazon. \n  \n‘’A comedian with keen instincts\, and punchlines delivered with a nice turn of phrase’’ – Fest Mag \n“Crusade proves Esther Manito to be an astute observer of everyday daftness as well as being able to tackle the bigger issues with wit and guile.” – The List \n \nBen Norris\nBen is a highly experienced and hugely well-respected stand-up. He’s been performing comedy since 1993 and is renowned for his incredibly relaxed stage persona and his innate ability to improvise as well as deliver sharply crafted material. \nOther interesting facts about Ben: he’s the cousin of actor Martin Freeman and also the father of triplets (2 girls and a boy) \nBen’s TV credits include: “Mock the week” (BBC 1)\, “The Comedy Store” (Paramount and Comedy Central)\, “Never mind the Buzzcocks” (BBC 2)\, “They think it’s all over” (BBC 2) \nBen has written and performed three solo shows at The Edinburgh Festival: ‘Sitting room only’ (1997)\, ’Mr Ambiguousness’ (2013)\, and ‘Benny on the loose’ (2014) \nBen was Ed Byrne’s tour support for his 2013 UK tour and appeared at the Apollo\, Hammersmith. \nBen acted in a play developed with the ‘Comedians Theatre Company’ called ‘The last minutes’ which was broadcast on BBC Radio 4 in February 2014. \n  \n‘’Impressively dark surrealism’’ – Bruce Dessau\, Evening Standard \n‘’A cast iron guaranteed headliner’’ – London is Funny \n‘’…one of the comedy circuits best improvisers’’ – Daily Mirror \n‘’…a splendidly funny live stand-up’’ – Timeout \n  \n  \n \nAndrew Bird\nAndrew appeared on “The Russell Howard Hour” and supported Russell on tour including Bristol’s Ashton Gate Football stadium and six shows at The London Palladium. He’s also supported Rhod Gilbert\, Rob Brydon\, America’s Brian Regan and Michelle Wolfe on their only London shows and Michael McIntyre on an entire arena tour including Wembley and the O2. He’s written on the TV shows Jon Richardson’s Ultimate Worrier and 8 Out of 10 Cats Does Countdown. \n“A brilliantly funny comedian” – Russell Howard \n“Birdie supported me on my arena tour and made me laugh every\nnight. A truly excellent comedian” – Michael McIntyre \n  \n\nTimings\nDoors open: 6:30pm\nShow starts: 8pm \n  \n\nBuy tickets:\nTickets for this show are £15 each. Tickets can be bought from WeGotTickets\, or contact the venue directly.
URL:https://lonewolfcomedy.co.uk/show/https-wegottickets-com-event-634539/
LOCATION:The Garden Tipi\, Bushy Lane\, Preston Bissett\, MK18 4ND\, United Kingdom
CATEGORIES:Comedy,Entertaiment,Event,Music
ATTACH;FMTTYPE=image/jpeg:https://lonewolfcomedy.co.uk/wp-content/uploads/2024/03/Ben_Norris3x5b.jpg
END:VEVENT
END:VCALENDAR