BEGIN:VCALENDAR
VERSION:2.0
PRODID:-//Lone Wolf - ECPv6.13.2//NONSGML v1.0//EN
CALSCALE:GREGORIAN
METHOD:PUBLISH
X-ORIGINAL-URL:https://lonewolfcomedy.co.uk
X-WR-CALDESC:Events for Lone Wolf
REFRESH-INTERVAL;VALUE=DURATION:PT1H
X-Robots-Tag:noindex
X-PUBLISHED-TTL:PT1H
BEGIN:VTIMEZONE
TZID:UTC
BEGIN:STANDARD
TZOFFSETFROM:+0000
TZOFFSETTO:+0000
TZNAME:UTC
DTSTART:20240101T000000
END:STANDARD
END:VTIMEZONE
BEGIN:VEVENT
DTSTART;TZID=UTC:20240509T183000
DTEND;TZID=UTC:20240509T220000
DTSTAMP:20260421T081542
CREATED:20240416T175010Z
LAST-MODIFIED:20240417T211510Z
UID:23301-1715279400-1715292000@lonewolfcomedy.co.uk
SUMMARY:Witney\, May 9th 2024
DESCRIPTION:Lone Wolf Comedy Club feat. Jenny Collier\, Mike Gunn\, Matt Richardson\nShow details:\n \nJenny Collier\nJenny is a multi-award winning stand up comedian\, writer and actor. An established regular on the international club and festival circuit\, Jenny has supported Jason Manford\, Arthur Smith\, Shappi Khorsandi and Dave Johns on their UK tours and has performed in Hong Kong\, the Philippines\, Singapore\, Switzerland and Australia where she won the Percy Award during the Adelaide Fringe. \nJenny has appeared on The Rhod Gilbert Show (BBC Wales)\, New Comedian of the Year Award (BBC Radio 4 Extra)\, The Comedy Club (BBC Radio 4 Extra)\, What’s The Story (BBC Wales)\, Newsbeat (BBC Radio 1)\, The Leak (BBC Wales) and has written for BBC Radio 4’s The News Quiz\, The Now Show\, Huffington Post and Glamour Magazine. \n★★★★★ ‘An Excellent comedic work’ – Edfest Mag\n★★★★ ‘Surprising edge’- Shortcom.co.uk\n★★★★ ‘Refreshingly original…Excellent’ – Broadway Baby \n  \n \nMike Gunn\nMike’s history is as interesting and entertaining as his comedy. A misspent youth and a series of grim jobs cultivated his cynical outlook on life and a perverse desire led him to the world of stand-up. A self-confessed pessimist\, he describes himself as “not a natural choice for a career in laughter”. He has a rare ability to walk close to the line of what audiences find acceptable and yet still remain likable and funny. His reputation for being a bit unfriendly\, a touch dark and even morose is really not true. In real life he’s loving\, warm and philanthropic. Just a bit misunderstood. \n“One of the 10 leading stand-ups in Britain” – Independent on Sunday \n“Mike Gunn will make you die laughing” – The Guardian \n“Piercingly funny…Fiendishly funny as dry as a dead mans bones” – The List \n  \n \nMatt Richardson\nMatt is a multi-award winning stand-up comedian and one of the most exciting names on the circuit currently rising through the ranks. Having started stand-up in 2009 at 18 years old\, Matt became one of the youngest comedians on the circuit and soon made it through to the finals of two national stand-up competitions – the prestigious So You Think You’re Funny and the Chortle Student Comedy Award – as well as coming runner up in the Reading Comedy Festival New Act of the Year and winning the Newbury and Bath Comedy Festival new act competitions ‘ – all while still in his teens. He quickly established himself in all of the major comedy club chains in the UK and has gigged overseas on countless occasions. \nSince then Matt has firmly established himself as one of the UK’s most exciting young performers and presenters – hosting the drive-time show on Virgin Radio. His TV credits include co-hosting the Xtra Factor alongside Caroline Flack\, Co-Hosting Celebrity Haunted Hotel Live! Alongside Christine Lampard and helming the live spin off show alone\, two one-off documentaries for ITV2 – Pampered Pooches\, Hollywood and Meet The Family Guys\, a series regular role on Viral Tap (ITV2)\, Nevermind The Buzzcocks\, Celebrity Juice\, Sweat The Small Stuff\, Big Brothers Bit on the Side\, Fake Reaction\, Its Not Me It’s You\, I’m a Celebrity Get Me out of here Now! and countless other shows. \nIn 2013 Matt headed out on his first ever award-winning tour ‘Hometown Hero’ in 2013. It was to 54 dates into spring 2014. \n”High wattage charisma from a talented young comic whos star is on the rise – THE GUARDIAN \n  \n ”Hilarious and Charming” – THE MIRROR \n  \n”Sharp\, Funny and Warm” – HEAT MAGAZINE \n  \n  \n\nTimings\nDoors open: 6.30pm\nShow starts: 8pm \n\nBuy tickets:\nTickets for this show are £15 each. Tickets can be bought from WeGotTickets\, or contact the venue directly.
URL:https://lonewolfcomedy.co.uk/show/https-third-avenue-entertainment-limited-sumupstore-com-product-comedy-club-9th-may-2024/
CATEGORIES:Comedy,Entertaiment,Event
ATTACH;FMTTYPE=image/jpeg:https://lonewolfcomedy.co.uk/wp-content/uploads/2024/04/jenny_collier-1.jpg
END:VEVENT
BEGIN:VEVENT
DTSTART;TZID=UTC:20240517T183000
DTEND;TZID=UTC:20240517T220000
DTSTAMP:20260421T081542
CREATED:20240416T204839Z
LAST-MODIFIED:20240417T210847Z
UID:23319-1715970600-1715983200@lonewolfcomedy.co.uk
SUMMARY:Finmere\, May 17th 2024
DESCRIPTION:Lone Wolf Comedy Club feat. Andrew Bird\, Tom Wrigglesworth\, Mike Gunn.\nShow details:\n \nTom Wrigglesworth\nTom is a frighteningly tall comedian\, but a thoroughly nice man with a likeable stage presence and confident delivery. This Yorkshire funny man became a national have-a-go-hero when he rescued a little old lady from the jaws of Virgin train bureaucracy\, only to be arrested for begging. He’s also the winner of Channel 4’s ‘So You Think You’re Funny?’ competition. \nAn articulate and natural raconteur\, he possesses an innate ability to riff with an audience like they’re old friends. His warm and hilarious tales\, told with true passion never fail to captivate the crowd. His television credits include Russell Howard’s Good News\, Edinburgh Comedy \nShow\, Live At The Comedy Store and Engineering Giants. \n‘Magical storytelling… a rare talent… hysterical and accomplished’ (Time Out) \n‘The gods of comedy chose greatness for Tom’ (The Scotsman). \n  \n \nMike Gunn\nMike’s history is as interesting and entertaining as his comedy. A misspent youth and a series of grim jobs cultivated his cynical outlook on life and a perverse desire led him to the world of stand-up. A self-confessed pessimist\, he describes himself as “not a natural choice for a career in laughter”. He has a rare ability to walk close to the line of what audiences find acceptable and yet still remain likable and funny. His reputation for being a bit unfriendly\, a touch dark and even morose is really not true. In real life he’s loving\, warm and philanthropic. Just a bit misunderstood. \n“One of the 10 leading stand-ups in Britain” – Independent on Sunday \n“Mike Gunn will make you die laughing” – The Guardian \n“Piercingly funny…Fiendishly funny as dry as a dead mans bones” – The List \n  \n \nAndrew Bird\nAndrew appeared on “The Russell Howard Hour” and supported Russell on tour including Bristol’s Ashton Gate Football stadium and six shows at The London Palladium. He’s also supported Rhod Gilbert\, Rob Brydon\, America’s Brian Regan and Michelle Wolfe on their only London shows and Michael McIntyre on an entire arena tour including Wembley and the O2. He’s written on the TV shows Jon Richardson’s Ultimate Worrier and 8 Out of 10 Cats Does Countdown. \n“A brilliantly funny comedian” – Russell Howard \n“Birdie supported me on my arena tour and made me laugh every\nnight. A truly excellent comedian” – Michael McIntyre \n  \n\nTimings\nDoors open: 6.30pm\nShow starts: 8pm \n\nBuy tickets:\nTickets for this show are £15 each. Tickets can be bought from WeGotTickets\, or contact the venue directly.
URL:https://lonewolfcomedy.co.uk/show/http-paypal-me-bicesterbabybank/
LOCATION:Finmere Village Hall\, MK18 4AT
CATEGORIES:Comedy,Entertaiment,Event
ATTACH;FMTTYPE=image/webp:https://lonewolfcomedy.co.uk/wp-content/uploads/2024/04/AB-Home-2.webp
END:VEVENT
END:VCALENDAR