BEGIN:VCALENDAR
VERSION:2.0
PRODID:-//Lone Wolf - ECPv6.13.2//NONSGML v1.0//EN
CALSCALE:GREGORIAN
METHOD:PUBLISH
X-ORIGINAL-URL:https://lonewolfcomedy.co.uk
X-WR-CALDESC:Events for Lone Wolf
REFRESH-INTERVAL;VALUE=DURATION:PT1H
X-Robots-Tag:noindex
X-PUBLISHED-TTL:PT1H
BEGIN:VTIMEZONE
TZID:UTC
BEGIN:STANDARD
TZOFFSETFROM:+0000
TZOFFSETTO:+0000
TZNAME:UTC
DTSTART:20260101T000000
END:STANDARD
END:VTIMEZONE
BEGIN:VEVENT
DTSTART;TZID=UTC:20260219T190000
DTEND;TZID=UTC:20260219T220000
DTSTAMP:20260422T010810
CREATED:20251119T222604Z
LAST-MODIFIED:20251227T225322Z
UID:23744-1771527600-1771538400@lonewolfcomedy.co.uk
SUMMARY:Buckingham Thursday 19th February 2026
DESCRIPTION:Lone Wolf Comedy Club feat. MC Andrew Bird Matt Bragg Paul Thorne\n \nMatt Bragg\nThe son of television warm up man Bobby Bragg\, Matt has been performing stand up all over the country for the last 7 years. With a unique\, low energy\, deadpan style and meticulously crafted material he has been gaining critical acclaim from audiences\, promoters and comedians alike. \nAs well as performing at some of the largest clubs in the UK\, he is tour support for Ricky Gervais\, Harry Hill\, Lloyd Griffith (Soccer AM)\, Suzi Ruffell\, Jason Manford\, John Bishop\, Phoenix Night’s Clinton Baptiste and Scott Bennett. He was also selected for Just The Tonic’s Big Value showcase at Edinburgh Festival in 2019 and finished runner up in Leicester Mercury’s Comedian of The Year 2020. \n‘’classic observation comedy\, delivered with effortless style’’ – RICKY GERVAIS \n‘’Jack Dee’s world view with Frank Skinner’s voice\, all wrapped in a mod’s fashion sense’’ – CHORTLE \n‘’Matt Bragg is brilliantly funny’’ – SUZY RAFFEL \n  \n \nPaul Thorne\nA respected headliner and skilful compere\, British comedian Paul Thorne is a member of The Comedy Store’s long-running topical material show\, The Cutting Edge. \nPaul’s provocative topical jokes and spontaneous wit have earned him a reputation as a quality live performer. A truly global comedian\, he has performed in Dubai\, Hong Kong\, Thailand\, Singapore\, China\, Japan and many places in between. In recent years\, he has performed his solo shows at comedy festivals in Canada\, Australia and Edinburgh. \nHis TV appearances include The World Stands Up (Paramount Comedy)\, The Stand Up Show (BBC One)\, The Comedy Store (Comedy Central) and Comedy Bigmouths (Channel 5). \n\n\n\n”A must-see comedian” THE GUARDIAN \n\n”Makes working an audience look effortless” THE STAGE\n\n\n\n\n \nAndrew Bird\nAndrew appeared on “The Russell Howard Hour” and supported Russell on tour including Bristol’s Ashton Gate Football stadium and six shows at The London Palladium. He’s also supported Rhod Gilbert\, Rob Brydon\, America’s Brian Regan and Michelle Wolfe on their only London shows and Michael McIntyre on an entire arena tour including Wembley and the O2. He’s written on the TV shows Jon Richardson’s Ultimate Worrier and 8 Out of 10 Cats Does Countdown. \n“A brilliantly funny comedian” – Russell Howard \n“Birdie supported me on my arena tour and made me laugh every\nnight. A truly excellent comedian” – Michael McIntyre \n  \n\nTimings\nDoors open: 7pm\nShow starts: 8pm \n  \n\nBuy tickets:\nTickets for this show are £16 each. Tickets can be bought from WeGotTickets\, or contact the venue directly.
URL:https://lonewolfcomedy.co.uk/show/https-wegottickets-com-event-682907/
LOCATION:Villiers Hotel Buckingham\, 3 Castle Street\, Buckingham\, MK18 1BS\, United Kingdom
CATEGORIES:Buckingham,Comedy,Entertaiment,Event,Music
ATTACH;FMTTYPE=image/jpeg:https://lonewolfcomedy.co.uk/wp-content/uploads/2023/10/Paul-Thorne.jpg
END:VEVENT
END:VCALENDAR