BEGIN:VCALENDAR
VERSION:2.0
PRODID:-//Lone Wolf - ECPv6.13.2//NONSGML v1.0//EN
CALSCALE:GREGORIAN
METHOD:PUBLISH
X-WR-CALNAME:Lone Wolf
X-ORIGINAL-URL:https://lonewolfcomedy.co.uk
X-WR-CALDESC:Events for Lone Wolf
REFRESH-INTERVAL;VALUE=DURATION:PT1H
X-Robots-Tag:noindex
X-PUBLISHED-TTL:PT1H
BEGIN:VTIMEZONE
TZID:UTC
BEGIN:STANDARD
TZOFFSETFROM:+0000
TZOFFSETTO:+0000
TZNAME:UTC
DTSTART:20250101T000000
END:STANDARD
END:VTIMEZONE
BEGIN:VEVENT
DTSTART;TZID=UTC:20251211T190000
DTEND;TZID=UTC:20251211T220000
DTSTAMP:20260420T050309
CREATED:20250704T110151Z
LAST-MODIFIED:20250704T123346Z
UID:23680-1765479600-1765490400@lonewolfcomedy.co.uk
SUMMARY:Bicester\, Thursday 11th December 2025
DESCRIPTION:Lone Wolf Comedy Club feat. Andrew Bird\, Lily Phillips\, Jack Skipper.\nShow details:\n \nLily Phillips\n\n\n\nLily is one of the most exciting up and coming voices in comedy in the UK. She is BBC New Comedy Award Finalist 2021\, Runner Up at the 2019 Leicester Square New Comedian of the Year and Funny Women Finalist 2018. She is a series regular on The Stand Up Sketch Show (ITV2 – series 2\, 3\, & 4 and the Christmas special). Her TV credits also include Period Dramas (BBC3)\, The Joy Of Missing Out (All4)\, The Fake Podcast show (E4) and Comedy Central Live. ‘Perfectly judged’ 4* Chortle \n‘An hour of non-stop laughing’’ – Voice Mag \n‘Perfectly judged’’ – Chortle \n‘Exudes a life affirming joyfulness’’ –   Funny Women \n\n\n\n\n\n\n\n\n\n \n\n\n\n\n\nJack Skipper\nHailing from South London\, has recently gone from a carpet fitter with no qualifications to blowing up\, becoming an internet sensation and full-time comedian. \nWhether telling stories of life as a family man or observations on working-class life\, his everyday guy persona has gained an impressive following on social media\, with over 15 million likes on TikTok alone and 290\,000 followers on Instagram. \nJack was a runner up in the prestigious So You Think You’re Funny? comedy newcomer competition in 2022\, in 2023 he reached the final of the Komedia New Act comedian competition and in 2024 won Best Debut Show at Leicester Comedy Festival Awards. This year Jack will take his award-winning debut show ‘Skint’ up to Pleasance Courtyard at the Edinburgh Festival Fringe. \nJack is also soon to star in the Stand Up Sketch Show on ITV2 and has been supporting Russell Kane and Suzi Ruffell on tour. \n‘’So relatable and delivered with such charm that the audience are never not onside…’’ – One4Review \n‘‘Definitely a name to watch’’ – Beyond The Joke \n‘’Delivery that commands the room and a no-nonsense outlook that gels into strong punchlines’’ – Chortle \n \nAndrew Bird\nAndrew appeared on “The Russell Howard Hour” and supported Russell on tour including Bristol’s Ashton Gate Football stadium and six shows at The London Palladium. He’s also supported Rhod Gilbert\, Rob Brydon\, America’s Brian Regan and Michelle Wolfe on their only London shows and Michael McIntyre on an entire arena tour including Wembley and the O2. He’s written on the TV shows Jon Richardson’s Ultimate Worrier and 8 Out of 10 Cats Does Countdown. \n“A brilliantly funny comedian” – Russell Howard \n“Birdie supported me on my arena tour and made me laugh every\nnight. A truly excellent comedian” – Michael McIntyre \n  \n\nTimings\nDoors open: 7pm\nShow starts: 8pm \n\nBuy tickets:\nTickets for this show are £16 each. Tickets can be bought from WeGotTickets or contact the venue directly.
URL:https://lonewolfcomedy.co.uk/show/https-wegottickets-com-event-668216/
LOCATION:Littlebury Hotel\, Bicester\, 5 Kings End\, Bicester\, OX26 6DR\, United Kingdom
CATEGORIES:Comedy,Entertaiment,Event,Littlebury Hotel, Bicester
ATTACH;FMTTYPE=image/webp:https://lonewolfcomedy.co.uk/wp-content/uploads/2025/07/Lily-Philips.webp
END:VEVENT
BEGIN:VEVENT
DTSTART;TZID=UTC:20251213T190000
DTEND;TZID=UTC:20251213T220000
DTSTAMP:20260420T050309
CREATED:20250704T115119Z
LAST-MODIFIED:20250704T115119Z
UID:23688-1765652400-1765663200@lonewolfcomedy.co.uk
SUMMARY:The Garden Tipi\, Saturday 13th December 2025
DESCRIPTION:Lone Wolf Comedy Club feat. MC Andrew Bird Mark  Simmos  Finley Christie\n \nMark Simmons\nMark is constantly on the rise and since being in the finals of several noteworthy competitions\, such as Leicester Mercury Comedian of The Year\, So You Think You’re Funny and the NATY Award\, he has been in high demand for the top UK comedy clubs\, such as Glee\, Manford’s Comedy Club\, Comedy Central and Just The Tonic\, headlining the majority of them. Also\, he has been recently supporting Seann Walsh\, Rob Beckett and Rob Brydon on their national tours\, as well as one off shows supporting Michael McIntyre\, Sean Lock and Jack Dee. \n“Absolutely hilarious.” The Scotsman \n“Gags of the highest order” Broadway Baby \n“Master of one liners” one4review \n \nFinley Christie\nEdinburgh Festival Award winner. \nHaving first performed stand up comedy at the age of 7\, Finlay Christie was featured on Blue Peter at just 14 years old. At age 19\, he went on to win the prestigious So You Think You’re Funny competition. \nHe has amassed a large fanbase of 170k+ followers and 8+ million likes on TikTok\, while his sketches are immensely popular\, collecting over 100 million views across platforms. \nRecently releasing the special ‘OK Zoomer’\, Finlay now performs in comedy clubs across the UK and the Edinburgh Comedy Festival. His TV credits include ITV2’s ‘The Stand-up Sketch Show’ and BBC One’s ‘BBC New Comedy Award’. \n \nAndrew Bird\nAndrew appeared on “The Russell Howard Hour” and supported Russell on tour including Bristol’s Ashton Gate Football stadium and six shows at The London Palladium. He’s also supported Rhod Gilbert\, Rob Brydon\, America’s Brian Regan and Michelle Wolfe on their only London shows and Michael McIntyre on an entire arena tour including Wembley and the O2. He’s written on the TV shows Jon Richardson’s Ultimate Worrier and 8 Out of 10 Cats Does Countdown. \n“A brilliantly funny comedian” – Russell Howard \n“Birdie supported me on my arena tour and made me laugh every\nnight. A truly excellent comedian” – Michael McIntyre \n  \n\nTimings\nDoors open: 6:30pm\nShow starts: 8pm \n  \n\nBuy tickets:\nTickets for this show are £16 each. Tickets can be bought from WeGotTickets\, or contact the venue directly.
URL:https://lonewolfcomedy.co.uk/show/https-wegottickets-com-event-668214/
LOCATION:The Garden Tipi\, Bushy Lane\, Preston Bissett\, MK18 4ND\, United Kingdom
CATEGORIES:Comedy,Entertaiment,Event,Music,Preston Bissett Nurserie and Country Shop in Tipi
ATTACH;FMTTYPE=image/jpeg:https://lonewolfcomedy.co.uk/wp-content/uploads/2025/07/Mark-simmons1.jpg
END:VEVENT
END:VCALENDAR