BEGIN:VCALENDAR
VERSION:2.0
PRODID:-//Lone Wolf - ECPv6.13.2//NONSGML v1.0//EN
CALSCALE:GREGORIAN
METHOD:PUBLISH
X-ORIGINAL-URL:https://lonewolfcomedy.co.uk
X-WR-CALDESC:Events for Lone Wolf
REFRESH-INTERVAL;VALUE=DURATION:PT1H
X-Robots-Tag:noindex
X-PUBLISHED-TTL:PT1H
BEGIN:VTIMEZONE
TZID:UTC
BEGIN:STANDARD
TZOFFSETFROM:+0000
TZOFFSETTO:+0000
TZNAME:UTC
DTSTART:20250101T000000
END:STANDARD
END:VTIMEZONE
BEGIN:VEVENT
DTSTART;TZID=UTC:20250711T190000
DTEND;TZID=UTC:20250711T220000
DTSTAMP:20260422T221403
CREATED:20250610T124743Z
LAST-MODIFIED:20250703T125035Z
UID:23644-1752260400-1752271200@lonewolfcomedy.co.uk
SUMMARY:Bicester\, Friday 11th July 2025
DESCRIPTION:Lone Wolf Comedy Club feat. Andrew Bird\, Maureen Younger\, Pierre Novellie.\nShow details:\n \nMaureen Younger\n\n\nIn 2023 Maureen reached the finals of British Comedian of the Year and was placed third. In 2024 she was one of the acts performing at the Best of British Showcase at the Adelaide Comedy Festival.\n\n\n\n\n\n\n\nHer gigs have ranged from being the support act for comedians such as Frankie Boyle and Jen Brister and for the entire West End run of The Naked Magicians at the Trafalgar Studios as well as one of the warm up acts for Puppetry of the Penis to performing at the Barbican alongside Arthur Smith; supporting Shazia Mirza on tour; to being one of the acts at the Jamaica vs The World gigs at the Shepherds Bush Empire. (Maureen was representing the latter category!) \n \n\n\n\n\n\n  \nPierre Novellie\nPierre is a stand-up comedian\, writer\, radio host and podcaster. He is co-host of The Frank Skinner Show on Absolute Radio\, and recent TV appearances include World’s Most Dangerous Roads (Dave)\, The Mash Report (BBC2)\, and Stand Up Central (Comedy Central). On the radio\, Pierre has performed on The Now Show (Radio 4)\, hosts the BBC Sounds podcast series Obsessed With… SAS: Rogue Heroes and co-hosts the hit podcast Budpod with Phil Wang. As a writer\, Pierre was one of the regular writers on the rebooted Spitting Image (ITV/Britbox) and has also written on shows including Mock the Week (BBC2)\, The News Quiz (Radio 4) and The Mash Report (BBC2). \n‘’Dawn of a major talent’’ – GUARDIAN \n‘’A big presence…He will go far’’ – THE TIMES \n‘’Wry\, confident observational comedy…hilarious’’ – THE SUNDAY TIMES \n  \n \nAndrew Bird\nAndrew appeared on “The Russell Howard Hour” and supported Russell on tour including Bristol’s Ashton Gate Football stadium and six shows at The London Palladium. He’s also supported Rhod Gilbert\, Rob Brydon\, America’s Brian Regan and Michelle Wolfe on their only London shows and Michael McIntyre on an entire arena tour including Wembley and the O2. He’s written on the TV shows Jon Richardson’s Ultimate Worrier and 8 Out of 10 Cats Does Countdown. \n“A brilliantly funny comedian” – Russell Howard \n“Birdie supported me on my arena tour and made me laugh every\nnight. A truly excellent comedian” – Michael McIntyre \n  \n\nTimings\nDoors open: 7pm\nShow starts: 8pm \n\nBuy tickets:\nTickets for this show are £16 each. Tickets can be bought from WeGotTickets or contact the venue directly.
URL:https://lonewolfcomedy.co.uk/show/https-wegottickets-com-event-660213/
LOCATION:Littlebury Hotel\, Bicester\, 5 Kings End\, Bicester\, OX26 6DR\, United Kingdom
CATEGORIES:Comedy,Entertaiment,Event,Littlebury Hotel, Bicester
ATTACH;FMTTYPE=image/jpeg:https://lonewolfcomedy.co.uk/wp-content/uploads/2025/06/pierre_novellie_2023_tour.jpg
END:VEVENT
BEGIN:VEVENT
DTSTART;TZID=UTC:20250726T160000
DTEND;TZID=UTC:20250726T230000
DTSTAMP:20260422T221403
CREATED:20240810T231121Z
LAST-MODIFIED:20250704T115848Z
UID:23415-1753545600-1753570800@lonewolfcomedy.co.uk
SUMMARY:The Garden Tipi-TipiFest\, Saturday 26th July 2025
DESCRIPTION:Lone Wolf Comedy Club feat. Angela Barnes\, Seann Walsh\, MC Andrew Bird\nShow details:\n \nAngela Barnes\nAngela Barnes swapped a career in health and social care for stand-up in 2010 and hasn’t looked back.  Within just a couple of years she had won the BBC New Comedy Award\, and progressed to UK tours and starring as a regular on BBC’s Mock the Week and Live at the Apollo\, and Hypothetical on Dave. \nFans of Mock the Week will know that with 38 episodes in the history of the 17 years of the show\, Barnes was the highest female panellist for appearances. The first was in 2014 and contributed to her growing success in the comedy circuit with her style of observation comedy on her own life. \nShe is a firm favourite on BBC Radio 4\, having featured on The Now Show and The News Quiz – including a recent stint as the host – and she has also hosted BBC Radio 4 Extra’s Newsjack. Besides this\, Angela co-hosts the popular podcast We Are History with John O’Farrell (Acast). \nAngela is from Maidstone\, but studied at the University of Sussex in Brighton and still lives in the city. She started performing comedy in 2008\, and won the BBC Radio 2’s New Comedy Award in 2011. \n“A gloriously down-to-earth\, straight-talking and extremely funny comic” – GUARDIAN \n “A natural born storyteller… Hot Mess is hilarious” –VOICE MAG  \n”thoroughly entertaining… well written\, well balanced\, quality” – BROADWAY BABY ★★★★ \n \nSeann Walsh\nSeann Walsh is an acclaimed British stand-up comedian and actor. \nSeann Walsh is an award-winning comedian\, with hit tours including Back From The Bed and After This One\, I’m Going Home getting standing ovations around the country. \nSeann has starred in Netflix’s Flinch\, Live at the Apollo\, Tonight at the London Palladium\, Celebrity Juice\, The Stand Up Sketch Show\, Virtually Famous\, 8 Out of 10 Cats\, Chatty Man and Stand Up Central. \nYouTube special Kiss\, recorded live at The Bill Murray pub\, sees Seann living through the centre of a media storm in his distinctively shambolic\, intense and energetic trademark style. \nHe has competed on BBC’s Strictly Come Dancing\, and ITV’s I’m a Celebrity\, Get Me Out of Here! \nSeann’s theatre credits include Twelfth Night at The Stratford Gatehouse Theatre as Malvolio. \nSeann’s previous TV acting credits include Jack Dee’s ITV sitcom Bad Move where he plays audience favourite\, Grizzo; and TV movie The Lovebox In Your Living Room. \nFilm credits include The Bystanders which won him the award for Best Actor in a feature film at the 2023 Sydney Science Fiction Film Festival. \nSeann Walsh also presents podcast What’s Upset You Now? alongside co-host Paul McCaffrey. \n“The best observational comedian of his generation” (The Guardian)\, \n \nAndrew Bird\nAndrew appeared on “The Russell Howard Hour” and supported Russell on tour including Bristol’s Ashton Gate Football stadium and six shows at The London Palladium. He’s also supported Rhod Gilbert\, Rob Brydon\, America’s Brian Regan and Michelle Wolfe on their only London shows and Michael McIntyre on an entire arena tour including Wembley and the O2. He’s written on the TV shows Jon Richardson’s Ultimate Worrier and 8 Out of 10 Cats Does Countdown. \n“A brilliantly funny comedian” – Russell Howard \n“Birdie supported me on my arena tour and made me laugh every\nnight. A truly excellent comedian” – Michael McIntyre \n \nAdam O’Connell\nThis talented young performer has been captivating audiences with his guitar and vocals for the past eight years\, and more recently\, he’s expanded his musical talents to include piano as well. \n \nCrazyHeart\nIs a dynamic acoustic band known for their stunning vocal harmonies and versatile sound. Blending acoustic jazz\, Americana\, pop\, rock\, and upbeat party favorites\, they bring warmth\, energy\, and a touch of elegance to every performance. \n  \n  \n\nTimings\nDoors open: 4pm \nLive Music: 5 – 7.30pm \nShow starts: 8pm – 10pm \nLast Orders: 11pm \n  \n  \n\nBuy tickets:\nTickets for this show are £25 each. Tickets can be bought from WeGotTickets\, or contact the venue directly.
URL:https://lonewolfcomedy.co.uk/show/https-wegottickets-com-event-647629/
LOCATION:The Garden Tipi\, Bushy Lane\, Preston Bissett\, MK18 4ND\, United Kingdom
CATEGORIES:Comedy,Entertaiment,Event,Music
ATTACH;FMTTYPE=image/png:https://lonewolfcomedy.co.uk/wp-content/uploads/2024/08/TipiFest-InstaFB.png
END:VEVENT
END:VCALENDAR