BEGIN:VCALENDAR
VERSION:2.0
PRODID:-//Lone Wolf - ECPv6.13.2//NONSGML v1.0//EN
CALSCALE:GREGORIAN
METHOD:PUBLISH
X-WR-CALNAME:Lone Wolf
X-ORIGINAL-URL:https://lonewolfcomedy.co.uk
X-WR-CALDESC:Events for Lone Wolf
REFRESH-INTERVAL;VALUE=DURATION:PT1H
X-Robots-Tag:noindex
X-PUBLISHED-TTL:PT1H
BEGIN:VTIMEZONE
TZID:UTC
BEGIN:STANDARD
TZOFFSETFROM:+0000
TZOFFSETTO:+0000
TZNAME:UTC
DTSTART:20250101T000000
END:STANDARD
END:VTIMEZONE
BEGIN:VEVENT
DTSTART;TZID=UTC:20250514T190000
DTEND;TZID=UTC:20250514T220000
DTSTAMP:20260417T162440
CREATED:20250329T153350Z
LAST-MODIFIED:20250418T211814Z
UID:23612-1747249200-1747260000@lonewolfcomedy.co.uk
SUMMARY:Witney\, Wednesday 14th May 2025
DESCRIPTION:Lone Wolf Comedy Club feat. MC Andrew Bird plus Established Acts Trying New Material\, Headliner Ian Stone.\nShow details:\n \nAndrew Bird MC\nAndrew appeared on “The Russell Howard Hour” and supported Russell on tour including Bristol’s Ashton Gate Football stadium and six shows at The London Palladium. He’s also supported Rhod Gilbert\, Rob Brydon\, America’s Brian Regan and Michelle Wolfe on their only London shows and Michael McIntyre on an entire arena tour including Wembley and the O2. He’s written on the TV shows Jon Richardson’s Ultimate Worrier and 8 Out of 10 Cats Does Countdown. \n  \n“A brilliantly funny comedian” – Russell Howard \n“Birdie supported me on my arena tour and made me laugh every night. A truly excellent comedian” – Michael McIntyre \n  \nNew Material from:\nMarcel Lucont & Matt Bragg \n  \n\n \nIan Stone – Headline Act\nRanked amongst the top ten stand-ups in Britain by The Independent\, Ian Stone is one of the most talented topical acts and comperes in the country. Edgy and provocative\, with an easy-going manner and self-depreciating style\, Ian is at great ease bantering with an audience.  He received a nomination in 2012 for the BEST SHOW at the Leicester Comedy Festival. His Edinburgh festival show in 2022 Righter of Wrongs played to sold out audiences for the entire run and his 2023 show Ian Stone Will Make it Better won a Spirit of the Fringe award. His show in 2024 Ian Stone is Keeping it Together was on the long list of nominations for the Jones The Bootmakers Comedy award. He then took the show on tour playing to packed out audiences around the country including a sold out one man show at London’s world famous Comedy Store \nHe has performed all over the world including Comedy Festivals in Australia\, New Zealand\, Hong Kong\, South Africa\, Holland\, France\, Ireland and Germany. He’s entertained the troops in Kuwait\, Bosnia\,Kosovo\, Cyprus and Afghanistan. He was the first British stand-up to perform in Moscow and the first performer to appear for The Comedy Store in Mumbai. \n“A masterful exponent of self mocking Jewish humour” – The Times \n“Seriously funny” – The Guardian \n\nTimings\nDoors open: 7pm\nShow starts: 8pm \n\nBuy tickets:\nTickets for this show are £12 each. Tickets can be bought from WeGotTickets or contact the venue directly.
URL:https://lonewolfcomedy.co.uk/show/https-wegottickets-com-event-655439/
LOCATION:The Red Lion\, 1-3 Cornstreet\, Witney\, OX28 6DB
CATEGORIES:Comedy,Entertaiment,Event
ATTACH;FMTTYPE=image/jpeg:https://lonewolfcomedy.co.uk/wp-content/uploads/2024/04/Ian-Stone-profile-scaled-e1639246138635-768x768-1.jpg
END:VEVENT
END:VCALENDAR