BEGIN:VCALENDAR
VERSION:2.0
PRODID:-//Lone Wolf - ECPv6.13.2//NONSGML v1.0//EN
CALSCALE:GREGORIAN
METHOD:PUBLISH
X-ORIGINAL-URL:https://lonewolfcomedy.co.uk
X-WR-CALDESC:Events for Lone Wolf
REFRESH-INTERVAL;VALUE=DURATION:PT1H
X-Robots-Tag:noindex
X-PUBLISHED-TTL:PT1H
BEGIN:VTIMEZONE
TZID:UTC
BEGIN:STANDARD
TZOFFSETFROM:+0000
TZOFFSETTO:+0000
TZNAME:UTC
DTSTART:20250101T000000
END:STANDARD
END:VTIMEZONE
BEGIN:VEVENT
DTSTART;TZID=UTC:20250312T190000
DTEND;TZID=UTC:20250312T220000
DTSTAMP:20260423T040530
CREATED:20250109T233334Z
LAST-MODIFIED:20250216T223814Z
UID:23498-1741806000-1741816800@lonewolfcomedy.co.uk
SUMMARY:Witney\, Wednesday 12th February 2025
DESCRIPTION:Lone Wolf Comedy Club feat. Andrew Bird\, Matt Bragg\, Matt Richardson\, Marcel Lucont\, Lindsey Santoro.\nShow details:\n \nAndrew Bird\nAndrew appeared on “The Russell Howard Hour” and supported Russell on tour including Bristol’s Ashton Gate Football stadium and six shows at The London Palladium. He’s also supported Rhod Gilbert\, Rob Brydon\, America’s Brian Regan and Michelle Wolfe on their only London shows and Michael McIntyre on an entire arena tour including Wembley and the O2. He’s written on the TV shows Jon Richardson’s Ultimate Worrier and 8 Out of 10 Cats Does Countdown. \n  \n“A brilliantly funny comedian” – Russell Howard \n“Birdie supported me on my arena tour and made me laugh every night. A truly excellent comedian” – Michael McIntyre \n  \n  \n \nLindsey Santoro\nEsther Manito is Lebanese-British stand up comedian and winner of Best Show at the Leicester Comedy Festival. \nAfter reaching the finals of So You Think You’re Funny and the Funny Women awards\, her debut solo show led to an appearance on Live at the Apollo (BBC Two). \nIn addition to being the first female comedian to perform at Dubai Opera House\, Esther’s book \n“Don’t Panic I’m Islamic” was published and is available on Amazon’’ – PRESS \n‘’A comedian with keen instincts\, and punchlines delivered with a nice turn of phrase’’ – FEST MAG \n  \n \nMatt Bragg\nThe son of television warm up man Bobby Bragg\, Matt has been performing stand up all over the country for the last 7 years. With a unique\, low energy\, deadpan style and meticulously crafted material he has been gaining critical acclaim from audiences\, promoters and comedians alike. \nAs well as performing at some of the largest clubs in the UK\, he is tour support for Ricky Gervais\, Harry Hill\, Lloyd Griffith (Soccer AM)\, Suzi Ruffell\, Jason Manford\, John Bishop\, Phoenix Night’s Clinton Baptiste and Scott Bennett. He was also selected for Just The Tonic’s Big Value showcase at Edinburgh Festival in 2019 and finished runner up in Leicester Mercury’s Comedian of The Year 2020. \nHis debut show ‘Matt Bragg has nothing wrong with him’ is previewing throughout 2023. \n‘’classic observation comedy\, delivered with effortless style’’ – RICKY GERVAIS \n‘’Jack Dee’s world view with Frank Skinner’s voice\, all wrapped in a mod’s fashion sense’’ – CHORTLE \n‘’Matt Bragg is brilliantly funny’’ – SUZY RAFFEL \n  \n \nMatt Richardson\nMatt has firmly established himself as one of the UK’s most exciting young performer and presenters – hosting the drive-time show on Virgin Radio. His TV credits include co-hosting the Xtra Factor alongside Caroline Flack\, Co-Hosting Celebrity Haunted Hotel Live! Alongside Christine Lampard and helming the live spin off show alone\, two one-off documentaries for ITV2 – Pampered Pooches\, Hollywood and Meet The Family Guys\, a series regular role on Viral Tap (ITV2)\, Nevermind The Buzzcocks\, Celebrity Juice\, Sweat The Small Stuff\, Big Brothers Bit on the Side\, Fake Reaction\, Its Not Me It’s You\, I’m a Celebrity Get Me out of here Now! and countless other shows. \nIn 2013 Matt headed out on his first ever award-winning tour ‘Hometown Hero’ in 2013. It was to 54 dates into sping 2014. \n  \n‘’High wattage charisma from a talented young comic whos star is on the rise’’ – THE GUARDIAN \n‘’Hilarious and Charming’’ – THE MIRROR \n‘’Sharp\, Funny and Warm’’ – HEAT MAGAZINE \n  \n \n  \nMarcel Lucont\nAward-winning French misanthropist \nThe multi-award-deserving flâneur\, raconteur and bon-viveur\, Marcel Lucont\, has toured the world with his unique blend of dry wit\, bawdy chansons and world-class sex poetry. \nHe is favourite on the international cabaret and comedy circuits\, celebrated for his sharp observations\, sardonic delivery\, and unapologetically French attitude. \nMarcel has performed at prestigious comedy festivals and venues around the world\, including the Edinburgh Festival Fringe\, the Melbourne International Comedy Festival and the Soho Theatre in London. His solo shows have garnered rave reviews and multiple awards\, including the Amused Moose Award for Best Comedy Show at the Edinburgh Fringe and the Best Sketch\, Character or Improv act by the Chortle Awards. \n“Wonderful French wit… Superb stuff… His elegant\, sardonic turns of phrase are an utter joy” – TIME OUT \n“Excellently dry” – THE TIMES \n“Wickedly funny” – THE TELEGRAPH \n\nTimings\nDoors open: 7pm\nShow starts: 8pm \n\nBuy tickets:\nTickets for this show are £12 each. Tickets can be bought from WeGotTickets or contact the venue directly.
URL:https://lonewolfcomedy.co.uk/show/https-wegottickets-com-event-645477/
LOCATION:The Red Lion\, 1-3 Cornstreet\, Witney\, OX28 6DB
CATEGORIES:Comedy,Entertaiment,Event
ATTACH;FMTTYPE=image/jpeg:https://lonewolfcomedy.co.uk/wp-content/uploads/2025/01/LS.jpg
END:VEVENT
BEGIN:VEVENT
DTSTART;TZID=UTC:20250314T190000
DTEND;TZID=UTC:20250314T220000
DTSTAMP:20260423T040530
CREATED:20250109T235942Z
LAST-MODIFIED:20250129T175358Z
UID:23500-1741978800-1741989600@lonewolfcomedy.co.uk
SUMMARY:Bicester\, Friday 14th March 2025
DESCRIPTION:Lone Wolf Comedy Club feat. Andrew Bird\, Andrew Maxwell\, Finley Christie.\nShow details:\n \nAndrew Maxwell\n\n\n\nAndrew Maxwell is an award-winning stand up comedian\, known for his insightful social commentary and cutting edge humour. \nThe Dublin born comedian has won several major awards\, including the Time Out Comedy Award\, the Chortle Award and was crowned ‘King of Comedy’ in the Channel 4 television show. \nProlific on the international stage\, he has performed at festivals including the Edinburgh Festival\, the HBO Comedy Arts Festival in Las Vegas and the Just for Laughs Festival in Montreal\, and was nominated twice for the prestigious Edinburgh Comedy Award. \nHis many TV appearances include Live at the Apollo (BBC One)\, Have I Got News for You (BBC One)\, Mock the Week (BBC Two)\, Never Mind the Buzzcocks (BBC Two)\, I’m a Celebrity\, Get Me Out of Here! (ITV)\, Celebrity Juice (ITV) and Argumental (Dave). \n\n\n\n\n\n\n\n\n\n\n\n\n”It’s a special thing to see a comic this comfortable and yet challenging\, and his is a voice we should hear more often” – THE TIMES \n\n\n\n\n\n  \n \nFinley Christie\nEdinburgh Festival Award winner \nHaving first performed stand up comedy at the age of 7\, Finlay Christie was featured on Blue Peter at just 14 years old. At age 19\, he went on to win the prestigious So You Think You’re Funny competition. \nHe has amassed a large fanbase of 170k+ followers and 8+ million likes on TikTok\, while his sketches are immensely popular\, collecting over 100 million views across platforms. \nRecently releasing the special ‘OK Zoomer’\, Finlay now performs in comedy clubs across the UK and the Edinburgh Comedy Festival. His TV credits include ITV2’s ‘The Stand-up Sketch Show’ and BBC One’s ‘BBC New Comedy Award’. \n  \n \nAndrew Bird\nAndrew appeared on “The Russell Howard Hour” and supported Russell on tour including Bristol’s Ashton Gate Football stadium and six shows at The London Palladium. He’s also supported Rhod Gilbert\, Rob Brydon\, America’s Brian Regan and Michelle Wolfe on their only London shows and Michael McIntyre on an entire arena tour including Wembley and the O2. He’s written on the TV shows Jon Richardson’s Ultimate Worrier and 8 Out of 10 Cats Does Countdown. \n“A brilliantly funny comedian” – Russell Howard \n“Birdie supported me on my arena tour and made me laugh every\nnight. A truly excellent comedian” – Michael McIntyre \n  \n\nTimings\nDoors open: 7pm\nShow starts: 8pm \n\nBuy tickets:\nTickets for this show are £16 each. Tickets can be bought from WeGotTickets or contact the venue directly.
URL:https://lonewolfcomedy.co.uk/show/https-wegottickets-com-event-645612/
LOCATION:Littlebury Hotel\, Bicester\, 5 Kings End\, Bicester\, OX26 6DR\, United Kingdom
CATEGORIES:Comedy,Entertaiment,Event,Littlebury Hotel, Bicester
ATTACH;FMTTYPE=image/jpeg:https://lonewolfcomedy.co.uk/wp-content/uploads/2024/10/Andrew-Maxwell.jpg
END:VEVENT
BEGIN:VEVENT
DTSTART;TZID=UTC:20250315T183000
DTEND;TZID=UTC:20250315T223000
DTSTAMP:20260423T040530
CREATED:20250110T124735Z
LAST-MODIFIED:20250129T174708Z
UID:23502-1742063400-1742077800@lonewolfcomedy.co.uk
SUMMARY:Grendon Underwood\, Saturday15th March 2025
DESCRIPTION:Lone Wolf Comedy Club feat. Lindsey Santoro\, Nathan Caton\, MC Andrew Bird\nShow details:\n \nLindsey Santoro\nLindsey is a comedian sometimes known as the pink haired comedian from Birmingham. She has won numerous awards and won the BIGGEST comedy prize for her 2023 debut show Pink Tinge at The Edinburgh Fringe. \nIt wasn’t that long ago when Lindsey started out in the buzzing comedy circuit of the Midlands. She had actually taken up one of the many comedy courses in stand-up. This later resulted in Lindsey being a semi finalist in the BBC’s New Comedy Awards. \nThat was in 2016 and five years later she was performing at the Edinburgh Fringe and had reached the finals of the British Comedian Of the Year. \nShe has performed at the Birmingham Comedy Festival 4 times now. Also\, she’s a regular contributor on Brum Radio and BBC’s West Midlands\, BBC Radio2 and BBC Radio4. Lindsey describes herself on her Instagram account as a Brummie and also an award winning comedy potato. \n“Expect to hear more from Santoro\, whose combination of raucous manner and Rabelaisian hilarity has got popular written all over it.”- THE GUARDIAN \n  \n \nNathan Caton\nNathan is one of the most exciting young comedians on the scene. Gigging since the tender age of 19\, over the last decade he has established himself both as a circuit headliner\, and a name on TV and radio. \nWithin his first few years on stage\, he had picked up various accolades and coveted plaudits including the Chortle Student Comic of the Year award and Broadcast Hotshot and written and starred in a pilot for Paramount Comedy (now Comedy Central) entitled The Nathan Caton Show. \nSince then Caton has gone from strength to strength\, wowing audiences at comedy clubs up and down the UK\, and on his numerous TV and radio appearances\, with his delightfully charming blend of personal and political comedy. \n  \nCheck out the Live page to see when Nathan is appearing near you… You won’t regret it! \n  \n‘‘A comic well worth catching any chance you can’’ – ONE 4 REVIEW \n‘’Funny\, clever and a pleasure to listen to.’ ‘– BORADWAY BABY \n‘’A charming and convincing operator’’ – THE LIST \n  \n  \n \nAndrew Bird\nAndrew appeared on “The Russell Howard Hour” and supported Russell on tour including Bristol’s Ashton Gate Football stadium and six shows at The London Palladium. He’s also supported Rhod Gilbert\, Rob Brydon\, America’s Brian Regan and Michelle Wolfe on their only London shows and Michael McIntyre on an entire arena tour including Wembley and the O2. He’s written on the TV shows Jon Richardson’s Ultimate Worrier and 8 Out of 10 Cats Does Countdown. \n“A brilliantly funny comedian” – Russell Howard \n“Birdie supported me on my arena tour and made me laugh every\nnight. A truly excellent comedian” – Michael McIntyre \n  \n\nTimings\nDoors open: 7pm\nShow starts: 8pm \n  \n\nBuy tickets:\nTickets for this show are £15 each. Tickets can be bought from WeGotTickets\, or contact the venue directly.
URL:https://lonewolfcomedy.co.uk/show/https-wegottickets-com-event-645639/
LOCATION:Grendon Underwood Village Hall\, Grendon Underwood Village Hall\, Grendon Underwood\, HP18 0SP
CATEGORIES:Comedy,Entertaiment,Event,Grendon Underwood Village Hall,Music
ATTACH;FMTTYPE=image/jpeg:https://lonewolfcomedy.co.uk/wp-content/uploads/2024/05/Nathan-scaled.jpg
END:VEVENT
BEGIN:VEVENT
DTSTART;TZID=UTC:20250320T190000
DTEND;TZID=UTC:20250320T220000
DTSTAMP:20260423T040530
CREATED:20240908T210340Z
LAST-MODIFIED:20250129T174617Z
UID:23439-1742497200-1742508000@lonewolfcomedy.co.uk
SUMMARY:Long Buckby\, Thursday 20th March 2025
DESCRIPTION:Lone Wolf Comedy Club feat. Paddy Lennox\, Carey Marx & host Andrew Bird\nShow details:\n \nPaddy Lennox\n\nPaddy’s had a great start to 2012\, he’s been working the corporate scene including gigs for the BBC\, ITV\, Investec\, Business Money and Jysk\, and he’s also featured on The Blame Game\, (BBC) Sky Poker and Talksport Radio. Music Festivals and TV warm-up man has been huge fun for him and he has supported many touring comics such as Rhod Gilbert\, Lucy Porter and Micky Flanagan. \nWhilst playing all the usual big clubs\, Paddy likes to gig the smaller ones too. Otherwise life gets too predictable. \nAs an actor Paddy has already clocked up a pretty impressive list of theatre\, film and TV credits. As an accomplished comic actor he has had flattering reviews in many Ray Cooney farces. \nHe’s also an excellent voice-over artist and has voiced and appeared in numerous commercials. \n“beautifully played and surprisingly moving” THESTAGE \n“…simply a scream’’ THE TELEGRAPH \n“beautifully played and surprisingly moving” THE STAGE \n\n\n\n \nCarey Marx\nAs sharp as joke writers come\, British stand up comedian Carey Marx is a favourite UK headliner\, mixing his own blend of dark humour with mischievous and gleeful delivery. \nIn addition to headlining Britain’s top comedy clubs\, he has taken a multitude of solo shows to the Edinburgh Festival and comedy festivals around the world\, twice winning the New Zealand Comedy Festival Award for Best International Show. \nHis TV appearances include The Comedy Store (Comedy Central)\, The Stand Up Show (BBC One) and Comedy Blue (Paramount Comedy). His solo show\, Intensive Carey\, was turned into a BBC Radio 4 series. \n  \n”Great comedy from a comedy master’’ – THE SCOTSMAN \n  \n \nAndrew Bird\nANDREW BIRD appeared on “The Russell Howard Hour” and supported Russell on tour including Bristol’s Ashton Gate Football stadium and six shows at The London Palladium. He’s also supported Rhod Gilbert\, Rob Brydon\, America’s Brian Regan and Michelle Wolfe on their only London shows and Michael McIntyre on an entire arena tour including Wembley and the O2. He’s written on the TV shows Jon Richardson’s Ultimate Worrier and 8 Out of 10 Cats Does Countdown. \n“A brilliantly funny” – Russell Howard \n“Birdie supported my on my arena tour and made me laugh every night. Truly an excellent comedian” – Michael McIntyre \n  \n  \n  \n  \n\nTimings\nDoors open: 7pm\nShow starts: 8pm \n\nBuy tickets:\nTickets for this show are £15 each. Tickets can be bought from WeGotTickets\, or contact the venue directly.
URL:https://lonewolfcomedy.co.uk/show/https-www-wegottickets-com-event-624586/
LOCATION:Long Buckby RFC\, Station Road\, Long Buckby\, Northampton\, NN6 7QA\, United Kingdom
CATEGORIES:Comedy,Entertaiment,Event,Long Buckby RFC
ATTACH;FMTTYPE=image/jpeg:https://lonewolfcomedy.co.uk/wp-content/uploads/2024/08/Carey-Marx-1.jpg
END:VEVENT
BEGIN:VEVENT
DTSTART;TZID=UTC:20250321T190000
DTEND;TZID=UTC:20250321T220000
DTSTAMP:20260423T040530
CREATED:20250110T170642Z
LAST-MODIFIED:20250129T174550Z
UID:23506-1742583600-1742594400@lonewolfcomedy.co.uk
SUMMARY:Bicester\, Friday 21st March 2025
DESCRIPTION:Lone Wolf Comedy Club feat. Andrew Bird\, Hatty Preston\, Ben Norris.\nShow details:\n \nHatty Preston\n\n\n\nHatty is a comic from London who is now fairly confusingly (to both her and her family) based in Chicago. She has performed at London comedy venues such as The Comedy Tavern and The Poodle Club\, and was the 2018 winner of Court Jester Comedy’s ‘Breakin’ Thru’ Stand-Up competition in London. \nHatty Preston is a regular on shows across Chicago – Comedy Bar\, Second City\, Laugh Factory and Zanies. This year she has opened for Jourdain Fisher at The Oak City Comedy Festival (Raleigh\, North Carolina)\, been a feature act at The Comedy Bar\, Nashville (Tennessee) and performed at The Virgil in Los Angeles. \nOver the last 12 months Hatty has been featured at comedy festivals in: Cleveland\, OH; Iowa City\, IA; Milwaukee\, WI; Raleigh\, NC. \nLast year she headlined at The 3rd Annual International Lady Laughs Festival in Madison\, WI\, with her set filmed for upcoming Glowstix Studios feature ‘I Heart Funny Women’. \nAs an actress\, Hatty Preston is best known for playing Princess Maribel in Lionsgate’s ‘The Royals’ and has also guest-starred in BBC’s ‘Cuckoo’ and ‘Jack Whitehall Live’. On London’s West End\, she originated the role of Minty in Jennifer Saunders’ ‘Viva Forever!’. \n\n\n\n  \n \nBen Norris\nBritish comedian Ben Norris is a highly experienced and well-respected stand up. He is renowned for his incredibly relaxed stage persona and his innate ability to improvise and deliver sharply crafted material. \nIn addition to performing three solo shows at the Edinburgh Festival\, Ben is a regular headliner at the UK’s top comedy clubs\, including The Comedy Store\, where he is a member of the long-running topical news show\, The Cutting Edge. \nHis TV appearances include Mock the Week (BBC One)\, Live at the Comedy Store (Comedy Central)\, Never Mind the Buzzcocks (BBC Two) and They Think It’s All Over (BBC Two). \n  \n‘’Norris rarely departs a stage without leaving it torn to shreds in his wake. A master of the craft’’ – GQ MAGAZINE \n‘’An acerbic attitude\, a well-stocked arsenal of sharp lines and the wherewithal to work any crowd’’ – CHORTLE \n‘’A razor-sharp act’’ – THE SCOTSMAN \n  \n \nAndrew Bird\nAndrew appeared on “The Russell Howard Hour” and supported Russell on tour including Bristol’s Ashton Gate Football stadium and six shows at The London Palladium. He’s also supported Rhod Gilbert\, Rob Brydon\, America’s Brian Regan and Michelle Wolfe on their only London shows and Michael McIntyre on an entire arena tour including Wembley and the O2. He’s written on the TV shows Jon Richardson’s Ultimate Worrier and 8 Out of 10 Cats Does Countdown. \n“A brilliantly funny comedian” – Russell Howard \n“Birdie supported me on my arena tour and made me laugh every\nnight. A truly excellent comedian” – Michael McIntyre \n  \n\nTimings\nDoors open: 7pm\nShow starts: 8pm \n\nBuy tickets:\nTickets for this show are £16 each. Tickets can be bought from WeGotTickets or contact the venue directly.
URL:https://lonewolfcomedy.co.uk/show/https-wegottickets-com-event-643706/
LOCATION:Bure Park Primary School\, 92 Lucerne Avenue\, Bicester\, OX26 3BP\, United Kingdom
CATEGORIES:Comedy,Entertaiment,Event
ATTACH;FMTTYPE=image/png:https://lonewolfcomedy.co.uk/wp-content/uploads/2024/10/hatty-preston.png
END:VEVENT
END:VCALENDAR