BEGIN:VCALENDAR
VERSION:2.0
PRODID:-//Lone Wolf - ECPv6.13.2//NONSGML v1.0//EN
CALSCALE:GREGORIAN
METHOD:PUBLISH
X-WR-CALNAME:Lone Wolf
X-ORIGINAL-URL:https://lonewolfcomedy.co.uk
X-WR-CALDESC:Events for Lone Wolf
REFRESH-INTERVAL;VALUE=DURATION:PT1H
X-Robots-Tag:noindex
X-PUBLISHED-TTL:PT1H
BEGIN:VTIMEZONE
TZID:UTC
BEGIN:STANDARD
TZOFFSETFROM:+0000
TZOFFSETTO:+0000
TZNAME:UTC
DTSTART:20250101T000000
END:STANDARD
END:VTIMEZONE
BEGIN:VEVENT
DTSTART;TZID=UTC:20250110T190000
DTEND;TZID=UTC:20250110T220000
DTSTAMP:20260417T165903
CREATED:20241112T222700Z
LAST-MODIFIED:20241221T230740Z
UID:23475-1736535600-1736546400@lonewolfcomedy.co.uk
SUMMARY:Bicester\, January 10th 2025
DESCRIPTION:Lone Wolf Comedy Club feat. Andrew Bird\, Joe Jacobs and a Mystery Guest.\nShow details:\n \nJoe Jacobs\nJoe is a London based comedian\, rapper and writer. His live shows effortlessly flit between hip hop and comedy and he’s been seen/heard on Channel 4\, BBC Radio 4\, BBC 6 Music\, Radio 1XTRA\, plus gained millions of viral video views online. \nOn the live circuit\, he’s a regular at The Comedy Store\, Top Secret\, Glee\, The Bearcat\, Up The Creek\, Backyard Comedy Club\, Covent Garden Comedy Club\, Knock2Bag\, Downstairs At The Kings Head\, Banana Cabaret\, The Distraction Club and many others. \nHe has provided tour support for acts such as Jamali Maddix\, Dane Baptiste and even opened \nfor Bill Burr at The Comedy Store in Hollywood. \nIn 2017\, Joe took Ripe to the Edinburgh Fringe where it received critical acclaim. In 2019\, he returned with Grimefulness. \nHis TV work includes Harry Hill’s ClubNite on Channel 4\, Nazi Pug: Joke or Hate on BBC3\, plus his viral rap track I’m Dog was featured on E4’s Rudetube. \nJoe’s first foray into radio was with Hip Hop’s Laughing Stock on BBC Sounds in September 2020. This show was soon added to BBC’s Seriously podcast\, showcasing the best documentaries from the BBC worldwide. \nIn addition to stand up\, as solo artist Jester Jacobs\, he’s put out music since his debut Mental Disorder in 2008. Since then\, he has had regular releases with performances nationally and internationally. \n  \n“The Stormzy of Stand up” – Chortle \n“Mike Skinner with jokes” – Wee Review \n“Always funny” – Beyond The Joke \n  \n \nMystery Guest\n  \n \nAndrew Bird\nAndrew appeared on “The Russell Howard Hour” and supported Russell on tour including Bristol’s Ashton Gate Football stadium and six shows at The London Palladium. He’s also supported Rhod Gilbert\, Rob Brydon\, America’s Brian Regan and Michelle Wolfe on their only London shows and Michael McIntyre on an entire arena tour including Wembley and the O2. He’s written on the TV shows Jon Richardson’s Ultimate Worrier and 8 Out of 10 Cats Does Countdown. \n“A brilliantly funny comedian” – Russell Howard \n“Birdie supported me on my arena tour and made me laugh every\nnight. A truly excellent comedian” – Michael McIntyre \n  \n\nTimings\nDoors open: 7pm\nShow starts: 8pm \n\nBuy tickets:\nTickets for this show are £16 each. Tickets can be bought from WeGotTickets or contact the venue directly.
URL:https://lonewolfcomedy.co.uk/show/https-wegottickets-com-event-636441/
LOCATION:Littlebury Hotel\, Bicester\, 5 Kings End\, Bicester\, OX26 6DR\, United Kingdom
CATEGORIES:Comedy,Entertaiment,Event,Littlebury Hotel, Bicester
ATTACH;FMTTYPE=image/jpeg:https://lonewolfcomedy.co.uk/wp-content/uploads/2024/11/JoeJacobsJusttheTonic.jpg
END:VEVENT
END:VCALENDAR