BEGIN:VCALENDAR
VERSION:2.0
PRODID:-//Lone Wolf - ECPv6.13.2//NONSGML v1.0//EN
CALSCALE:GREGORIAN
METHOD:PUBLISH
X-WR-CALNAME:Lone Wolf
X-ORIGINAL-URL:https://lonewolfcomedy.co.uk
X-WR-CALDESC:Events for Lone Wolf
REFRESH-INTERVAL;VALUE=DURATION:PT1H
X-Robots-Tag:noindex
X-PUBLISHED-TTL:PT1H
BEGIN:VTIMEZONE
TZID:UTC
BEGIN:STANDARD
TZOFFSETFROM:+0000
TZOFFSETTO:+0000
TZNAME:UTC
DTSTART:20240101T000000
END:STANDARD
END:VTIMEZONE
BEGIN:VEVENT
DTSTART;TZID=UTC:20241108T190000
DTEND;TZID=UTC:20241108T220000
DTSTAMP:20260417T180259
CREATED:20241014T222239Z
LAST-MODIFIED:20241014T222239Z
UID:23449-1731092400-1731103200@lonewolfcomedy.co.uk
SUMMARY:Bicester\, November 8th 2024
DESCRIPTION:Lone Wolf Comedy Club feat. Andrew Bird\, Hatty Preston\, Andrew Maxwell.\nShow details:\n \nHatty Preston\nHatty is a London-born\, Chicago-built\, Liverpool-living comedian. \nShe has opened for major US and UK comics including Theo Von\, Chris DiStefano\, Jessica Kirson and Jack Whitehall. \nIn Chicago she performs at top comedy clubs across the city including Laugh Factory (her home club)\, Zanies\, Lincoln Lodge and Comedy Bar. Across the US she has worked at major venues including: The New York Comedy Club and The Stand (NYC); The Creek and The Cave and East Austin Comedy Club (Austin\, Texas); Zanies Nashville and Madison’s Comedy on State. \nIn London she is a regular at Top Secret\, Angel Comedy\, Boat Show and Big Belly. She is also a producer and host on the London chapter of Don’t Tell Comedy as well as running the very popular ‘The Big Fizz’ in London’s Notting Hill. \nAs an actress\, Hatty has had roles on Call The Midwife and Cuckoo but is best known for playing Princess Maribel in Lionsgate’s ‘The Royals’ and for originating the role of Minty in Jennifer Saunders’s ‘Viva Forever!’ in London’s West End. \n  \n \nAndrew Maxwell\nAndrew Maxwell is an award-winning stand up comedian\, known for his insightful social commentary and cutting edge humour. \nThe Dublin born comedian has won several major awards\, including the Time Out Comedy Award\, the Chortle Award and was crowned ‘King of Comedy’ in the Channel 4 television show. \nProlific on the international stage\, he has performed at festivals including the Edinburgh Festival\, the HBO Comedy Arts Festival in Las Vegas and the Just for Laughs Festival in Montreal\, and was nominated twice for the prestigious Edinburgh Comedy Award. \nHis many TV appearances include Live at the Apollo (BBC One)\, Have I Got News for You (BBC One)\, Mock the Week (BBC Two)\, Never Mind the Buzzcocks (BBC Two)\, I’m a Celebrity\, Get Me Out of Here! (ITV)\, Celebrity Juice (ITV) and Argumental (Dave). \n  \n‘’It’s a special thing to see a comic this comfortable and yet challenging\, and his is a voice we should hear more often’’ – THE TIMES \n  \n \nAndrew Bird\nAndrew appeared on “The Russell Howard Hour” and supported Russell on tour including Bristol’s Ashton Gate Football stadium and six shows at The London Palladium. He’s also supported Rhod Gilbert\, Rob Brydon\, America’s Brian Regan and Michelle Wolfe on their only London shows and Michael McIntyre on an entire arena tour including Wembley and the O2. He’s written on the TV shows Jon Richardson’s Ultimate Worrier and 8 Out of 10 Cats Does Countdown. \n“A brilliantly funny comedian” – Russell Howard \n“Birdie supported me on my arena tour and made me laugh every\nnight. A truly excellent comedian” – Michael McIntyre \n  \n\nTimings\nDoors open: 7pm\nShow starts: 8pm \n\nBuy tickets:\nTickets for this show are £15 each. Tickets can be bought from WeGotTickets or contact the venue directly.
URL:https://lonewolfcomedy.co.uk/show/bicester-november-8th-2024/
LOCATION:Littlebury Hotel\, Bicester\, 5 Kings End\, Bicester\, OX26 6DR\, United Kingdom
CATEGORIES:Comedy,Entertaiment,Event,Littlebury Hotel, Bicester
ATTACH;FMTTYPE=image/png:https://lonewolfcomedy.co.uk/wp-content/uploads/2024/10/hatty-preston.png
END:VEVENT
END:VCALENDAR