BEGIN:VCALENDAR
VERSION:2.0
PRODID:-//Lone Wolf - ECPv6.13.2//NONSGML v1.0//EN
CALSCALE:GREGORIAN
METHOD:PUBLISH
X-ORIGINAL-URL:https://lonewolfcomedy.co.uk
X-WR-CALDESC:Events for Lone Wolf
REFRESH-INTERVAL;VALUE=DURATION:PT1H
X-Robots-Tag:noindex
X-PUBLISHED-TTL:PT1H
BEGIN:VTIMEZONE
TZID:UTC
BEGIN:STANDARD
TZOFFSETFROM:+0000
TZOFFSETTO:+0000
TZNAME:UTC
DTSTART:20240101T000000
END:STANDARD
END:VTIMEZONE
BEGIN:VEVENT
DTSTART;TZID=UTC:20241005T183000
DTEND;TZID=UTC:20241005T223000
DTSTAMP:20260423T111539
CREATED:20240905T092243Z
LAST-MODIFIED:20240912T155723Z
UID:23424-1728153000-1728167400@lonewolfcomedy.co.uk
SUMMARY:Grendon Underwood\, October 5th 2024
DESCRIPTION:Lone Wolf Comedy Club feat. Charlie Baker\, Paul Tonkinson\, MC Andrew Bird\nShow details:\n \nCharlie Baker\nCharlie’s versatile talents as a stand-up comedian\, actor\, and highly acclaimed jazz-singer have seen him earn a reputation as ‘a superior take on the modern showman’ (The Guardian). On screen\, he has starred in countless shows including The Last Leg\, Harry Hill’s Tea Time\, Comedy Central at The Comedy Store\, The Great British Bake-Off: An Extra Slice\, Never Mind the Buzzcocks\, Richard Osman’s House of Games\, Edinburgh Comedy Fest Live\, The Dog Ate My Homework and Channel 4’s Comedy Gala. \nCharlie starred in the leading role in Harry Hill’s Tony! The Tony Blair Rock Opera at London’s Park Theatre\, receiving four stars from The Times. His acting talents have also seen him star in Back\, Eastenders\, Vexed\, Doctor Who\, Miranda\, the TV adaptation of Four Weddings and a Funeral\, and The Boy in the Striped Pyjamas. \nFollowing his smash-hit UK tour in 2023/2024 with his stand-up show 24 Hour Pasty People\, Charlie’s special was filmed at Torquay’s Babbacombe Theatre and is available to stream now on NextUp. \n”Baker handles the crowd brilliantly from the very start” – Beyond The Joke \n”Genuinely funny” – The Herald \n”Quick and easy wit and energetic style” – The Leicester Mercury \n \nPaul Tonkinson\nA two-time winner of the Time Out Comedy Award\, Paul Tonkinson has reputation for being one of the finest stand up comedians in Britain. \nPaul regularly appears at all the major comedy clubs and international comedy festivals across the world\, including the prestigious Montreal Just For Laughs festival\, where he hosted the esteemed Britcom Gala. He has toured as far and wide as Australia\, New Zealand\, Norway\, Dubai\, Singapore and Hong Kong. \nHis TV appearances include Michael McIntyre’s Comedy Roadshow (BBC One)\, Live at The Comedy Store (Comedy Central) and The World Stands Up (Paramount Comedy). \n  \n‘’Excellent… extremely talented… brilliant’’ – TIME OUT \n‘’Charismatic\, combines the visual trickery of a Lee Evans with the improvisational skills of Paul Merton’’ – THE INDEPENDENT \n  \n  \n \nAndrew Bird\nAndrew appeared on “The Russell Howard Hour” and supported Russell on tour including Bristol’s Ashton Gate Football stadium and six shows at The London Palladium. He’s also supported Rhod Gilbert\, Rob Brydon\, America’s Brian Regan and Michelle Wolfe on their only London shows and Michael McIntyre on an entire arena tour including Wembley and the O2. He’s written on the TV shows Jon Richardson’s Ultimate Worrier and 8 Out of 10 Cats Does Countdown. \n“A brilliantly funny comedian” – Russell Howard \n“Birdie supported me on my arena tour and made me laugh every\nnight. A truly excellent comedian” – Michael McIntyre \n  \n\nTimings\nDoors open: 6:30pm\nShow starts: 8pm \n  \n\nBuy tickets:\nTickets for this show are £15 each. Tickets can be bought from WeGotTickets\, or contact the venue directly.
URL:https://lonewolfcomedy.co.uk/show/grendon-underwood-october-5th-2024/
LOCATION:Grendon Underwood Village Hall\, Grendon Underwood Village Hall\, Grendon Underwood\, HP18 0SP
CATEGORIES:Comedy,Entertaiment,Event,Grendon Underwood Village Hall,Music
ATTACH;FMTTYPE=image/jpeg:https://lonewolfcomedy.co.uk/wp-content/uploads/2024/03/Chaarlie-Baker-1.jpg
END:VEVENT
BEGIN:VEVENT
DTSTART;TZID=UTC:20241011T190000
DTEND;TZID=UTC:20241011T220000
DTSTAMP:20260423T111539
CREATED:20240908T200222Z
LAST-MODIFIED:20240908T200316Z
UID:23434-1728673200-1728684000@lonewolfcomedy.co.uk
SUMMARY:Bicester\, October 11th 2024
DESCRIPTION:Lone Wolf Comedy Club feat. Andrew Bird\, Anthony J Brown\, Tom Ward.\nShow details:\n \nAnthony J Brown\nAlan Carr Tour Support & BBC New Comedy Award Runner-up – Anthony J Brown\, is an established veteran of the live comedy scene. Anthony is the winner of Jongleurs ‘Stand & Deliver’ Comedy Award and a star of Channel 4’s legendary Phoenix Nights. He is clad in a sartorially edifying bespoke manner\, like a dapper and dandy funeral director. Anthony cuts a unique on-stage presence with humour blacker than a raven that has slammed it’s claw in a coffin lid. Eschewing the well trodden terrain of the one-liner witticism\, Mr Brown’s penchant is for 4\, 5\, 6 and 7-liners drenched in evocative imagery and laced with comedic red herrings. And not the merest hint of profanity. He constantly engages the assembled throng with a cryogenic stare whilst slowly and very gently caressing the microphone stand with well manicured talons. To be quite so casually tactile with an inanimate object in full public view takes a certain confidence\, especially whilst punctuating his bizarre and often hilariously misanthropic anecdotes with measured pauses that you could reverse a Heavy Goods Vehicle through. The overall effect is both perversely hypnotic and wholly original\, leaving the audience zealously hanging on to every syllable like turncoat lemmings on a rockface. \n  \n‘’A truly unique performer…superb’’ – Reece Shearsmith (‘The League Of Gentlemen’) \n‘’Jarvis Cocker with a death in the family’ ‘ – Metro \n‘’He made me laugh immediately. I was crying with laughter’’ – Doon Mackichan (‘Smack The Pony’) \n  \n \nTom Ward\nTom Ward is a London-based stand up comedian who rose to prominence by winning the Chortle Best Newcomer Award. \nHe is now a regular performer in the UK’s top comedy clubs and at the Edinburgh Comedy Festival\, where his shows have received critical acclaim. \nHis TV appearances include  Live at The Apollo (BBC2)\, Roast Battle (Comedy Central)\, Stand Up Central (Comedy Central)\, Live from The Comedy Store (Comedy Central) and The Stand Up Sketch Show (ITV2). \n  \n‘’A genuinely exciting talent’’ – The Herald \n‘’A star in the making’’ – Time Out \n  \n \nAndrew Bird\nAndrew appeared on “The Russell Howard Hour” and supported Russell on tour including Bristol’s Ashton Gate Football stadium and six shows at The London Palladium. He’s also supported Rhod Gilbert\, Rob Brydon\, America’s Brian Regan and Michelle Wolfe on their only London shows and Michael McIntyre on an entire arena tour including Wembley and the O2. He’s written on the TV shows Jon Richardson’s Ultimate Worrier and 8 Out of 10 Cats Does Countdown. \n“A brilliantly funny comedian” – Russell Howard \n“Birdie supported me on my arena tour and made me laugh every\nnight. A truly excellent comedian” – Michael McIntyre \n  \n\nTimings\nDoors open: 7pm\nShow starts: 8pm \n\nBuy tickets:\nTickets for this show are £15 each. Tickets can be bought from WeGotTickets or contact the venue directly.
URL:https://lonewolfcomedy.co.uk/show/https-wegottickets-com-event-632738/
LOCATION:Littlebury Hotel\, Bicester\, 5 Kings End\, Bicester\, OX26 6DR\, United Kingdom
CATEGORIES:Comedy,Entertaiment,Event,Littlebury Hotel, Bicester
ATTACH;FMTTYPE=image/jpeg:https://lonewolfcomedy.co.uk/wp-content/uploads/2024/09/Tom-Ward-2022-WEB.jpg
END:VEVENT
END:VCALENDAR