BEGIN:VCALENDAR
VERSION:2.0
PRODID:-//Lone Wolf - ECPv6.13.2//NONSGML v1.0//EN
CALSCALE:GREGORIAN
METHOD:PUBLISH
X-WR-CALNAME:Lone Wolf
X-ORIGINAL-URL:https://lonewolfcomedy.co.uk
X-WR-CALDESC:Events for Lone Wolf
REFRESH-INTERVAL;VALUE=DURATION:PT1H
X-Robots-Tag:noindex
X-PUBLISHED-TTL:PT1H
BEGIN:VTIMEZONE
TZID:UTC
BEGIN:STANDARD
TZOFFSETFROM:+0000
TZOFFSETTO:+0000
TZNAME:UTC
DTSTART:20240101T000000
END:STANDARD
END:VTIMEZONE
BEGIN:VEVENT
DTSTART;TZID=UTC:20240719T190000
DTEND;TZID=UTC:20240719T220000
DTSTAMP:20260420T111232
CREATED:20240527T134600Z
LAST-MODIFIED:20240711T134939Z
UID:23375-1721415600-1721426400@lonewolfcomedy.co.uk
SUMMARY:Marsh Gibbon\, July 19th 2024
DESCRIPTION:Lone Wolf Comedy Club feat. Andrew Bird\, Julian Deane\, Scott Bennett.\nShow details:\n \nJulian Deane\nJulian is a hilariously frenetic comedian known for his high-octane performances on stage. With a style that’s been described as “bonkers” and “maniacally talented”\, he delivers rapid-fire observational comedy laced with surreal tangents and mind-blowing vocal dexterity. \nDespite the unhinged\, almost unbelievable pace\, Deane’s material remains firmly rooted in everyday human experiences and relationships\, especially surrounding his own life as a husband and father. This duality of grounded perspective and unrestrained surrealism is what makes his act both wildly absurd yet instantly recognizable. \n“Deliciously twisted. a stream of seriously good gags. quick\, sharply written and endlessly repeatable lines.” (The Guardian). \n“Assured and brilliant. Deane is a class apart. a master of hilarious twists and turns.” (Chortle). \n  \n \nScott Bennett\nThe Comedy Club with Arthur Smith\, and Knock Knock with Helen Lederer. In 2018\, he also featured on the BBC One show\, Live from The Edinburgh Fringe. \nHe also features on the new Nationwide adverts\, released in 2020 and 2021. \nDuring the lockdown of 2020\, Scott pioneered the viral hit\, Stand up from the Shed\, a weekly topical live streamed stand up show from his actual garden shed. The show achieved national coverage in the press\, Sky News\, BBC News and Five Live. \nAt the end of 2020\, in the Comics Comic awards Scott was voted “Best Act” a prestigious award decided by comedians and promoters in the industry. Previous winners include\, Mick Ferry\, Zoe Lyons and Ian Stone. \nIn 2022 he was nominated as Best Club Comedian in the Chortle awards. \n“Great material\, great delivery\, a very funny man”  Rob Brydon \n“Brilliantly funny\, a joy to watch” Chris Ramsey \n“mmediately and accessibly funny stuff\, put across very engagingly” ★★★★ – TV Bomb\, Edinburgh Fringe Review 2015 \n \nAndrew Bird\nAndrew appeared on “The Russell Howard Hour” and supported Russell on tour including Bristol’s Ashton Gate Football stadium and six shows at The London Palladium. He’s also supported Rhod Gilbert\, Rob Brydon\, America’s Brian Regan and Michelle Wolfe on their only London shows and Michael McIntyre on an entire arena tour including Wembley and the O2. He’s written on the TV shows Jon Richardson’s Ultimate Worrier and 8 Out of 10 Cats Does Countdown. \n“A brilliantly funny comedian” – Russell Howard \n“Birdie supported me on my arena tour and made me laugh every\nnight. A truly excellent comedian” – Michael McIntyre \n  \n\nTimings\nDoors open: 6.30pm\nShow starts: 8pm \n\nBuy tickets:\nTickets for this show are £15 each. Tickets can be bought from WeGotTickets\, or contact the venue directly.
URL:https://lonewolfcomedy.co.uk/show/marsh-gibbon-july-19th-2024/
LOCATION:Marsh Gibbon Village Hall
CATEGORIES:Charity,Comedy,Entertaiment,Event
ATTACH;FMTTYPE=image/webp:https://lonewolfcomedy.co.uk/wp-content/uploads/2024/04/AB-Home-2.webp
END:VEVENT
BEGIN:VEVENT
DTSTART;TZID=UTC:20240726T190000
DTEND;TZID=UTC:20240726T220000
DTSTAMP:20260420T111232
CREATED:20240527T160840Z
LAST-MODIFIED:20240527T160840Z
UID:23388-1722020400-1722031200@lonewolfcomedy.co.uk
SUMMARY:Bicester\, July 26th 2024
DESCRIPTION:Lone Wolf Comedy Club feat. Andrew Bird\, Dan Evans\, Ian Stone.\nShow details:\n \nDan Evans\nOver the past 9 years Dan Evans’ twisted logic has delighted the nation\, helping it through the dark days of the death of HRH The Queen Mother\, Beckham’s missed penalty and the uncertainties of 21st century property prices. \nIn addition to playing clubs and Universities throughout the UK including The Crack Comedy Club & The Comedy Tree\, Dan has been part of the Screaming Blue Murder Cabaret and the Avalon Comedy Zone at The Edinburgh Festival. \nDan’s TV and Radio appearances include Brain Candy (BBC3 / 2)\, Channel 5 at The Comedy Store; Channel 5 Comedy Zone & The Radio 2 Stand Up Show. \nHe writes too\, with credits including all 3 series of the award winning‘Very World of Milton Jones’(R4 – Sony Award winner); Rory Bremner Who else? (CH4) The Eleven O’clock Show (CH 4) and The Live Floor Show (BBC 1). \n‘Skilful and surreal’ – The Scotsman. \n‘Original and inventive’ – The Times \n  \n \nIan Stone\nRanked amongst the top ten stand-ups in Britain by The Independent\, Ian Stone is one of the most talented topical acts and comperes in the country. Edgy and provocative\, with an easy-going manner and self-depreciating style\, Ian is at great ease bantering with an audience.  He received a nomination in 2012 for the BEST SHOW at the Leicester Comedy Festival. His Edinburgh festival show in 2022 Righter of Wrongs played to sold out audiences for the entire run and his 2023 show Ian Stone Will Make it Better won a Spirit of the Fringe award. He’ll be back in Edinburgh in 2024 with a brand new show Ian Stone is Keeping it Together prior to taking it out on his first national tour. \n“A masterful exponent of self mocking Jewish humour” – The Times **** \n“Seriously funny” – The Guardian \n“…like a cross between Tony Hancock and Frankie Howerd. Stone is probably better than we deserve. Ultimately\, it is the sheer quantity of funny material that really impresses” The List \n \nAndrew Bird\nAndrew appeared on “The Russell Howard Hour” and supported Russell on tour including Bristol’s Ashton Gate Football stadium and six shows at The London Palladium. He’s also supported Rhod Gilbert\, Rob Brydon\, America’s Brian Regan and Michelle Wolfe on their only London shows and Michael McIntyre on an entire arena tour including Wembley and the O2. He’s written on the TV shows Jon Richardson’s Ultimate Worrier and 8 Out of 10 Cats Does Countdown. \n“A brilliantly funny comedian” – Russell Howard \n“Birdie supported me on my arena tour and made me laugh every\nnight. A truly excellent comedian” – Michael McIntyre \n  \n\nTimings\nDoors open: 7pm\nShow starts: 8pm \n\nBuy tickets:\nTickets for this show are £15 each. Tickets can be bought from WeGotTickets\, or contact the venue directly.
URL:https://lonewolfcomedy.co.uk/show/https-www-wegottickets-com-event-622951/
LOCATION:Littlebury Hotel\, Bicester\, 5 Kings End\, Bicester\, OX26 6DR\, United Kingdom
CATEGORIES:Comedy,Entertaiment,Event,Littlebury Hotel, Bicester
ATTACH;FMTTYPE=image/jpeg:https://lonewolfcomedy.co.uk/wp-content/uploads/2024/05/Ian-Stone-profile-scaled-e1639246138635-768x768-1.jpg
END:VEVENT
END:VCALENDAR