BEGIN:VCALENDAR
VERSION:2.0
PRODID:-//Lone Wolf - ECPv6.13.2//NONSGML v1.0//EN
CALSCALE:GREGORIAN
METHOD:PUBLISH
X-ORIGINAL-URL:https://lonewolfcomedy.co.uk
X-WR-CALDESC:Events for Lone Wolf
REFRESH-INTERVAL;VALUE=DURATION:PT1H
X-Robots-Tag:noindex
X-PUBLISHED-TTL:PT1H
BEGIN:VTIMEZONE
TZID:UTC
BEGIN:STANDARD
TZOFFSETFROM:+0000
TZOFFSETTO:+0000
TZNAME:UTC
DTSTART:20240101T000000
END:STANDARD
END:VTIMEZONE
BEGIN:VEVENT
DTSTART;TZID=UTC:20240405T183000
DTEND;TZID=UTC:20240405T220000
DTSTAMP:20260423T201223
CREATED:20240324T003431Z
LAST-MODIFIED:20240402T195002Z
UID:23250-1712341800-1712354400@lonewolfcomedy.co.uk
SUMMARY:Preston Bissett\, April 5th 2024
DESCRIPTION:Lone Wolf Comedy Club feat. Mary Bourke\, Jarred Christmas\, MC Andrew Bird\nShow details:\n \nMary Bourke\nMary Bourke was born in Dublin during a cross fire hurricane .She lives in leafy Buckinghamshire with her comedian husband and her large collection of Betty Page memorabilia .Before she became a comic She was a burlesque dancer and choreographer in San Francisco .She has published numerous romantic novels under the pseudonymnTara Sundrive .\nAs well as being an accomplished comedian who has performed all over the world Ms Bourke is also a respected comedy writer .She is most famous for having written “the joke that was heard around the world ” ie “My name is Shazia Mirza at least that’s what it says on my pilot’s license ” \n” The headliner by comparsion shines out like an emerald in a cowpat .A softly spoken irish women with an erudite wit and a veterans delivery . I hope the young competition entrants were chastened and inspired by seeing her “. – East anglian Daily Times\n“Intelligent comedy that’s also feriously funny …..Ms Bourke combines a natural charisma with some very well crafted clever material ” THE IRISH WORLD \n“Catch her act before she becomes a (complete and utter ) cult ” WILLIAM COOK THE GUARDIAN \n“One of the best female stand ups I’ve seen recently ” THE STAGE \n \nJarred Christmas\nA dynamic onstage persona combined with the ability to improvise with anything that’s thrown his way makes Jarred’s comedy sizzle with originality. Early in his career he supported both Ross Noble and Tommy Tiernan on UK tours. He has since written and performed in countless shows at the Edinburgh Festival and has toured the UK in his own right with his solo shows Jarred Christmas Stands Up and Let’s Go Mofo. He has played to packed theatres across the UK\, twice hosting the All Star Stand Up Tour – a  show featuring a world-class line-up of comedians.  Jarred returned to the Edinburgh Festival this year\, with a brand new solo stand-up show ‘Silly Billy’. \nSince arriving in the UK\, Jarred has amassed extensive TV experience\, appearing on Mock The Week (BBC2)\, Never Mind the Buzzcocks (BBC2) 8 out of 10 Cats\, (Channel 4)\, and Argumental (Dave). He recently hosted BBC NI’s series Monumental\, taking the reins from Adam Hills in the hit panel show celebrating the great and peculiar side of Northern Ireland. As a stand-up\, he has appeared on The Comedy Store\, Edinburgh & Beyond\, Comedy Blue and The World Stands-Up (Comedy Central)\, as well as One Night Stand (Dave) and Russell Howard’s Good News (BBC Three).  He’s also been a regular on the airwaves; co-hosting The Rhod Gilbert Show (BBC Radio Wales)\, guesting on Act Your Age (Radio 4)\, Jest A Minute (BBC Radio Wales)\, Spanking New (BBC Radio 7) and Flight of the Conchords (Radio 2) to name but a few. \nCOMEDIAN\, WRITER\, TV & RADIO PRESENTER\, IMPROVISER AND ACTOR\n‘BEST CHILDREN’S SHOW’ NOMINEE – LEICESTER COMEDY FESTIVAL 2023 & 2017\n‘BEST COMPERE’ – CHORTLE AWARDS 2016 \n  \n \nAndrew Bird\nAndrew appeared on “The Russell Howard Hour” and supported Russell on tour including Bristol’s Ashton Gate Football stadium and six shows at The London Palladium. He’s also supported Rhod Gilbert\, Rob Brydon\, America’s Brian Regan and Michelle Wolfe on their only London shows and Michael McIntyre on an entire arena tour including Wembley and the O2. He’s written on the TV shows Jon Richardson’s Ultimate Worrier and 8 Out of 10 Cats Does Countdown. \n“A brilliantly funny comedian” – Russell Howard \n“Birdie supported me on my arena tour and made me laugh every\nnight. A truly excellent comedian” – Michael McIntyre \n  \n\nTimings\nDoors open: 6:30pm\nShow starts: 8pm \n\nBuy tickets:\nTickets for this show are £15 each. Tickets can be bought from WeGotTickets\, or contact the venue directly.
URL:https://lonewolfcomedy.co.uk/show/https-www-wegottickets-com-event-610308/
LOCATION:The Garden Tipi\, Bushy Lane\, Preston Bissett\, MK18 4ND\, United Kingdom
CATEGORIES:Comedy
ATTACH;FMTTYPE=image/jpeg:https://lonewolfcomedy.co.uk/wp-content/uploads/2024/01/jc-jarred-christmas-23.jpg
END:VEVENT
BEGIN:VEVENT
DTSTART;TZID=UTC:20240425T183000
DTEND;TZID=UTC:20240425T220000
DTSTAMP:20260423T201223
CREATED:20240325T002605Z
LAST-MODIFIED:20240417T212003Z
UID:23271-1714069800-1714082400@lonewolfcomedy.co.uk
SUMMARY:Milton Keynes\, April 25th 2024
DESCRIPTION:Lone Wolf Comedy Club feat. James Ellis\, Ian Smith\, Andrew Bird.\nShow details:\n \nJames Ellis\nAward-winning comedian James Ellis is a rising star in the UK comedy scene. \nHis sharp observational humour and clever punchlines have won him rave reviews from critics and audiences alike. \nJames’ comedy is rooted in everyday life\, and he has a knack for finding the funny in the mundane. A gifted writer\, his jokes are well-crafted and delivered with precision. \nIn 2021\, James was named South Coast Comedian of the Year\, and was a regional finalist for the BBC New Comedy Award. He is currently on tour supporting Angela Barnes on her “Hot Mess” Tour. Ellis is a “Talented comedy craftsman” (Steve Bennett\, Chortle) with a bright future ahead of him. If you’re looking for a good laugh on a night out\, be sure to catch James live! \n  \n“James Ellis is a triple threat\, he’s really very bloody funny\, has a great stage presence and has the best hair in the business” – ANGELA BARNES \n“A talented comedy craftsman” – CHORTLE \n \nIan Smith is an award-winning comedian\, actor and writer.\nIan has appeared on BBC Three at the Fringe\, BBC3 panel show Sweat the Small Stuff and Channel 5 series The Funny Things About…He was also one third of popular Dave podcast\, The Magic Sponge\, alongside Rob Beckett\, which has previously topped the iTunes comedy charts. \nIan is also a talented actor – starting off as a lead in BBC2 sitcom Popatron and award-winning short film\, Bonsai. He has gone on to star alongside Katherine Parkinson in Sky comedy\, Officially Special\, and have a leading role in major BBC1 drama\, The Ark\, starring David Threlfall – as well as a number of supporting roles including Siblings\, Pls Like and BBC drama The Syndicate. \n“Fantastically funny” –The Times \n“Proper star quality” –The Guardian \n“A very funny man indeed” –Time Out \n  \n \nAndrew Bird\nAndrew appeared on “The Russell Howard Hour” and supported Russell on tour including Bristol’s Ashton Gate Football stadium and six shows at The London Palladium. He’s also supported Rhod Gilbert\, Rob Brydon\, America’s Brian Regan and Michelle Wolfe on their only London shows and Michael McIntyre on an entire arena tour including Wembley and the O2. He’s written on the TV shows Jon Richardson’s Ultimate Worrier and 8 Out of 10 Cats Does Countdown. \n“A brilliantly funny comedian” – Russell Howard \n“Birdie supported me on my arena tour and made me laugh every\nnight. A truly excellent comedian” – Michael McIntyre \n\nTimings\nDoors open: 7pm\nShow starts: 8pm \n\nBuy tickets:\nTickets for this show are £15 each. Tickets can be bought from WeGotTickets\, or contact the venue directly.
URL:https://lonewolfcomedy.co.uk/show/https-www-wegottickets-com-event-607538/
CATEGORIES:Brewery Tap House, Milton Keynes,Comedy
ATTACH;FMTTYPE=image/jpeg:https://lonewolfcomedy.co.uk/wp-content/uploads/2024/03/Ian-Smith-1-768x1049-1.jpg
END:VEVENT
END:VCALENDAR