BEGIN:VCALENDAR
VERSION:2.0
PRODID:-//Lone Wolf - ECPv6.13.2//NONSGML v1.0//EN
CALSCALE:GREGORIAN
METHOD:PUBLISH
X-ORIGINAL-URL:https://lonewolfcomedy.co.uk
X-WR-CALDESC:Events for Lone Wolf
REFRESH-INTERVAL;VALUE=DURATION:PT1H
X-Robots-Tag:noindex
X-PUBLISHED-TTL:PT1H
BEGIN:VTIMEZONE
TZID:UTC
BEGIN:STANDARD
TZOFFSETFROM:+0000
TZOFFSETTO:+0000
TZNAME:UTC
DTSTART:20260101T000000
END:STANDARD
END:VTIMEZONE
BEGIN:VEVENT
DTSTART;TZID=UTC:20260507T190000
DTEND;TZID=UTC:20260507T220000
DTSTAMP:20260420T192129
CREATED:20260129T222600Z
LAST-MODIFIED:20260222T212521Z
UID:23806-1778180400-1778191200@lonewolfcomedy.co.uk
SUMMARY:Buckingham Thursday 7th May 2026
DESCRIPTION:Lone Wolf Comedy Club feat. MC Matt Richardson Hatty Preston Paul Tonkinson\n \nHatty Preston\nHatty is a comic from London who is now fairly confusingly (to both her and her family) based in Chicago. She has performed at London comedy venues such as The Comedy Tavern and The Poodle Club\, and was the 2018 winner of Court Jester Comedy’s ‘Breakin’ Thru’ Stand-Up competition in London. \nHatty Preston is a regular on shows across Chicago – Comedy Bar\, Second City\, Laugh Factory and Zanies. This year she has opened for Jourdain Fisher at The Oak City Comedy Festival (Raleigh\, North Carolina)\, been a feature act at The Comedy Bar\, Nashville (Tennessee) and performed at The Virgil in Los Angeles. \nAs an actress\, Hatty Preston is best known for playing Princess Maribel in Lionsgate’s ‘The Royals’ and has also guest-starred in BBC’s ‘Cuckoo’ and ‘Jack Whitehall Live’. On London’s West End\, she originated the role of Minty in Jennifer Saunders’ ‘Viva Forever!’. \n \nPaul Tonkinson\nA sensational live performer\, Yorkshire man\, marathon runner and former (double award-winning) Time Out Comedian of the Year\, Paul Tonkinson has long upheld his esteemed reputation as one of the finest stand-ups the UK has to offer. With a unique and distinctive style\, Tonkinson is noted for his effervescent physicality and skilful impressions\, which bring alive exuberant\, tender comic reflections on love\, family and the day-to-day idiosyncrasies of 21st century living. A plethora of first-class material\, combined with tremendous charm and irrepressible\, infectious energy make for quite a formidable talent. \nOn TV\, he’s most recently performed on BBC One’s Michael Mcintyre’s Comedy Roadshow and Comedy Central’s The Comedy Store and The World Stands-up. He was recently a contestant on Ch. 4`s hit show Celebrity Come Dine With Me\, proving he’s not just a dazzling stand-up talent\, but a whizz in the kitchen\, scooping first place to win the cash prize for charity. Back in the day\, when he was a mere whippersnapper\, he had a stint presenting Ch. 4’s The Big Breakfast and he has also presented radio shows on XFM in London and Manchester. He has just completed a stint as a Programme Associate on BBC One’s Michael McIntyre Chat Show. \n“Excellent… extremely talented… brilliant” – Time Out \n\n\n\n\n\n\n \nMatt Richardson\nMatt has firmly established himself as one of the UK’s most exciting young performer and presenters – hosting the drive-time show on Virgin Radio. His TV credits include co-hosting the Xtra Factor alongside Caroline Flack\, Co-Hosting Celebrity Haunted Hotel Live! Alongside Christine Lampard and helming the live spin off show alone\, two one-off documentaries for ITV2 – Pampered Pooches\, Hollywood and Meet The Family Guys\, a series regular role on Viral Tap (ITV2)\, Nevermind The Buzzcocks\, Celebrity Juice\, Sweat The Small Stuff\, Big Brothers Bit on the Side\, Fake Reaction\, Its Not Me It’s You\, I’m a Celebrity Get Me out of here Now! and countless other shows. \n‘’High wattage charisma from a talented young comic whos star is on the rise’’ – THE GUARDIAN \n‘’Hilarious and Charming’’ – THE MIRROR \n‘’Sharp\, Funny and Warm’’ – HEAT MAGAZINE \n  \n  \n\nTimings\nDoors open: 7pm\nShow starts: 8pm \n  \n\nBuy tickets:\nTickets for this show are £16 each. Tickets can be bought from WeGotTickets\, or contact the venue directly.
URL:https://lonewolfcomedy.co.uk/show/https-wegottickets-com-event-691141/
LOCATION:Villiers Hotel Buckingham\, 3 Castle Street\, Buckingham\, MK18 1BS\, United Kingdom
CATEGORIES:Buckingham,Comedy,Entertaiment,Event,Music
ATTACH;FMTTYPE=image/jpeg:https://lonewolfcomedy.co.uk/wp-content/uploads/2026/01/P-Tonkonson.jpeg
END:VEVENT
BEGIN:VEVENT
DTSTART;TZID=UTC:20260508T190000
DTEND;TZID=UTC:20260508T223000
DTSTAMP:20260420T192129
CREATED:20260205T133540Z
LAST-MODIFIED:20260210T211244Z
UID:23824-1778266800-1778279400@lonewolfcomedy.co.uk
SUMMARY:Bicester Friday 8th May 2026
DESCRIPTION:Lone Wolf Comedy Club feat. Andrew Bird Dinesh Nathan TBC\nShow details:\n \nDinesh Nathan\n\n\n\nAfter winning several gong shows\, Dinesh won South Coast Comedian Of The Year and was a finalist at the Komedia New Act competition and the coveted Leicester Mercury Comedian Of The Year competition. \nIn 2022 Dinesh appeared on BBC 3’s New Comedian of the Year awards and Comedy Central Live. \n‘’With a mix of high-spirited delivery and sarcastic\, self-deprecating viewpoint\, this is a club-ready act\, bulletproof in its relentless fusillade’’ – CHORTLE \n‘’Crowd-pleasing without pandering\, Nathan is a class act’’ – CHORTLE \n\n\n\n\n\n\n\n\n\n \n\n\n\n\n\nGavin Webster\nGavin Webster is an award winning and legendary comedian from the North East of England. After making his modest debut in a pub in Gateshead in February 1993\, on the same bill as Ross Noble he’s done over seven thousand gigs performing all over the world including Abu Dhabi\, Australia\, Hong Kong\, Dubai\, Bahrain\, Qatar\, Singapore & Malaysia. \nFamed and respected by his peers for his uncompromising and unusual approach and distinctly original routines\, he now boasts a large cult following round the country. Gavin has also supported some of the biggest household names on tour including Kevin Bridges\, Alexi Sayle\, Lee Evans\, Jack Dee and Phill Jupitus. \nIn 2014\, he was named UK Circuit Comedian of the Year\, as voted for by fellow professional comedians online. \nHe has also become a cult hero at the Edinburgh Fringe having performed an amazing ten solos shows over his career including his 2011 show All Young People are Cunts which was positively reviewed by the British Comedy Guide. In 2012 he returned to the Edinburgh Fringe with a new stand-up show Bill Hicks Wasn’t Very Good. His 2014 show was called Controversial Title in Order to Sell Tickets whilst his 2016 show was entitled Jesus Christ Is A Window Cleaner Now. \nHis television work includes Never Mind The Buzzcocks (BBC2)\, The Stand-up Show (BBC1)\, Does Doug Know (Channel 4)\, Take The Mike (ITV)\, The Regionnaires (Tyne Tees)\, The Eleven O Clock show (Channel 4)\, The Comedy Store\, Comedy Blue (Comedy Central) and The World Stand Up Tour (Channel 9 Australia\, Comedy Central USA). \nHe wrote and played in Walk on the Wild Side in 2009 and 2010. In 2011 he voiced Sid the Sexist for Channel 4’s series Blaps adapting Viz. \nIn 2016 Gavin made his big screen debut in Ken Loach’s multi-award winning film I\, Daniel Blake. \n”Funny\, clever and as brilliantly observed as you’ll find” – The Scotsman \n”Like a cross between Bill Hicks and Geoff off Byker Grove” – Ross Noble \n”The best thing to come out of Newcastle since deep fried Mars bars” – The Source \n  \n \nAndrew Bird\nAndrew appeared on “The Russell Howard Hour” and supported Russell on tour including Bristol’s Ashton Gate Football stadium and six shows at The London Palladium. He’s also supported Rhod Gilbert\, Rob Brydon\, America’s Brian Regan and Michelle Wolfe on their only London shows and Michael McIntyre on an entire arena tour including Wembley and the O2. He’s written on the TV shows Jon Richardson’s Ultimate Worrier and 8 Out of 10 Cats Does Countdown. \n“A brilliantly funny comedian” – Russell Howard \n“Birdie supported me on my arena tour and made me laugh every\nnight. A truly excellent comedian” – Michael McIntyre \n  \n\nTimings\nDoors open: 7pm\nShow starts: 8pm \n\nBuy tickets:\nTickets for this show are £16 each. Tickets can be bought from WeGotTickets or contact the venue directly.
URL:https://lonewolfcomedy.co.uk/show/https-wegottickets-com-event-692143/
LOCATION:Littlebury Hotel\, Bicester\, 5 Kings End\, Bicester\, OX26 6DR\, United Kingdom
CATEGORIES:Comedy,Entertaiment,Event,Littlebury Hotel, Bicester
ATTACH;FMTTYPE=image/jpeg:https://lonewolfcomedy.co.uk/wp-content/uploads/2026/02/Dinesh-Nathan-WEB.jpeg
END:VEVENT
END:VCALENDAR