BEGIN:VCALENDAR
VERSION:2.0
PRODID:-//Lone Wolf - ECPv6.13.2//NONSGML v1.0//EN
CALSCALE:GREGORIAN
METHOD:PUBLISH
X-WR-CALNAME:Lone Wolf
X-ORIGINAL-URL:https://lonewolfcomedy.co.uk
X-WR-CALDESC:Events for Lone Wolf
REFRESH-INTERVAL;VALUE=DURATION:PT1H
X-Robots-Tag:noindex
X-PUBLISHED-TTL:PT1H
BEGIN:VTIMEZONE
TZID:UTC
BEGIN:STANDARD
TZOFFSETFROM:+0000
TZOFFSETTO:+0000
TZNAME:UTC
DTSTART:20250101T000000
END:STANDARD
END:VTIMEZONE
BEGIN:VEVENT
DTSTART;TZID=UTC:20251113T190000
DTEND;TZID=UTC:20251113T220000
DTSTAMP:20260417T182929
CREATED:20250704T173457Z
LAST-MODIFIED:20250704T173457Z
UID:23703-1763060400-1763071200@lonewolfcomedy.co.uk
SUMMARY:Buckingham\, Thursday 13th November 2025
DESCRIPTION:Lone Wolf Comedy Club feat. MC Andrew Bird  Lindsey Santoro  Carey Marx\n \nLindsey Santoro\nLindsey is a comedian sometimes known as the pink haired comedian from Birmingham. She has won numerous awards and won the BIGGEST comedy prize for her 2023 debut show Pink Tinge at The Edinburgh Fringe. \nIt wasn’t that long ago when Lindsey started out in the buzzing comedy circuit of the Midlands. She had actually taken up one of the many comedy courses in stand-up. This later resulted in Lindsey being a semi finalist in the BBC’s New Comedy Awards. \nThat was in 2016 and five years later she was performing at the Edinburgh Fringe and had reached the finals of the British Comedian Of the Year. \nShe has performed at the Birmingham Comedy Festival 4 times now. Also\, she’s a regular contributor on Brum Radio and BBC’s West Midlands\, BBC Radio2 and BBC Radio4. Lindsey describes herself on her Instagram account as a Brummie and also an award winning comedy potato. \n“Expect to hear more from Santoro\, whose combination of raucous manner and Rabelaisian hilarity has got popular written all over it.”- THE GUARDIAN \n \nCarey Marx\nSubversive jokesmith \nAs sharp as joke writers come\, British stand up comedian Carey Marx is a favourite UK headliner\, mixing his own blend of dark humour with mischievous and gleeful delivery. \nIn addition to headlining Britain’s top comedy clubs\, he has taken a multitude of solo shows to the Edinburgh Festival and comedy festivals around the world\, twice winning the New Zealand Comedy Festival Award for Best International Show. \nHis TV appearances include The Comedy Store (Comedy Central)\, The Stand Up Show (BBC One) and Comedy Blue (Paramount Comedy). His solo show\, Intensive Carey\, was turned into a BBC Radio 4 series. \nGreat comedy from a comedy master’’ – THE SCOTSMAN \n‘’An excellent joke-writer\, mixing silly puns with more transgressive ideas and evoking a ‘dirty cherub’ look when he knows he’s being naughty ‘’ – CHORTLE \n \nAndrew Bird\nAndrew appeared on “The Russell Howard Hour” and supported Russell on tour including Bristol’s Ashton Gate Football stadium and six shows at The London Palladium. He’s also supported Rhod Gilbert\, Rob Brydon\, America’s Brian Regan and Michelle Wolfe on their only London shows and Michael McIntyre on an entire arena tour including Wembley and the O2. He’s written on the TV shows Jon Richardson’s Ultimate Worrier and 8 Out of 10 Cats Does Countdown. \n“A brilliantly funny comedian” – Russell Howard \n“Birdie supported me on my arena tour and made me laugh every\nnight. A truly excellent comedian” – Michael McIntyre \n  \n\nTimings\nDoors open: 7pm\nShow starts: 8pm \n  \n\nBuy tickets:\nTickets for this show are £16 each. Tickets can be bought from WeGotTickets\, or contact the venue directly.
URL:https://lonewolfcomedy.co.uk/show/https-wegottickets-com-event-667873/
LOCATION:Villiers Hotel Buckingham\, 3 Castle Street\, Buckingham\, MK18 1BS\, United Kingdom
CATEGORIES:Comedy,Entertaiment,Event,Music,Preston Bissett Nurserie and Country Shop in Tipi
ATTACH;FMTTYPE=image/jpeg:https://lonewolfcomedy.co.uk/wp-content/uploads/2024/08/Carey-Marx.jpg
END:VEVENT
BEGIN:VEVENT
DTSTART;TZID=UTC:20251114T190000
DTEND;TZID=UTC:20251114T220000
DTSTAMP:20260417T182929
CREATED:20250703T151200Z
LAST-MODIFIED:20250704T123522Z
UID:23678-1763146800-1763157600@lonewolfcomedy.co.uk
SUMMARY:Bicester\, Friday 14th November 2025
DESCRIPTION:Lone Wolf Comedy Club feat. Andrew Bird\, Jarred Christmas and Ian Stone.\nShow details:\n \nJarred Christmas\n\n\n\nNew Zealand Sensation Jarred Christmas is one of the most innovative and exciting stand-ups on the UK circuit. A sought-after headliner famed for his quick-witted spontaneity\, masterful skills of improvisation and energetic storytelling; Jarred is a regular at the Edinburgh Festival\, and at comedy clubs and International festivals around the globe. \nA dynamic onstage persona combined with the ability to improvise with anything that’s thrown his way makes Jarred’s comedy sizzle with originality. Early in his career he supported both Ross Noble and Tommy Tiernan on UK tours. \nJarred is an accomplished actor\, working with Warwick Davies both on stage and in the web series\, Dwarves Assemble. A highly versatile performer\, with tremendous energy and exuberance\, he has also amassed several successful stage performances in Panto. \n\n\n\n\n\n\n\n\n\n \n\n\n\n\n\nIan Stone\nRanked amongst the top ten stand-ups in Britain by The Independent\, Ian Stone is one of the most talented topical acts and comperes in the country. Edgy and provocative\, with an easy-going manner and self-depreciating style\, Ian is at great ease bantering with an audience.  He received a nomination in 2012 for the BEST SHOW at the Leicester Comedy Festival. His Edinburgh festival show in 2022 Righter of Wrongs played to sold out audiences for the entire run and his 2023 show Ian Stone Will Make it Better won a Spirit of the Fringe award. His show in 2024 Ian Stone is Keeping it Together was on the long list of nominations for the Jones The Bootmakers Comedy award. He then took the show on tour playing to packed out audiences around the country including a sold out one man show at London’s world famous Comedy Store \nHe has performed all over the world including Comedy Festivals in Australia\, New Zealand\, Hong Kong\, South Africa\, Holland\, France\, Ireland and Germany. He’s entertained the troops in Kuwait\, Bosnia\,Kosovo\, Cyprus and Afghanistan. He was the first British stand-up to perform in Moscow and the first performer to appear for The Comedy Store in Mumbai. \n“A masterful exponent of self mocking Jewish humour” – The Times \n“Seriously funny” – The Guardian \n \nAndrew Bird\nAndrew appeared on “The Russell Howard Hour” and supported Russell on tour including Bristol’s Ashton Gate Football stadium and six shows at The London Palladium. He’s also supported Rhod Gilbert\, Rob Brydon\, America’s Brian Regan and Michelle Wolfe on their only London shows and Michael McIntyre on an entire arena tour including Wembley and the O2. He’s written on the TV shows Jon Richardson’s Ultimate Worrier and 8 Out of 10 Cats Does Countdown. \n“A brilliantly funny comedian” – Russell Howard \n“Birdie supported me on my arena tour and made me laugh every\nnight. A truly excellent comedian” – Michael McIntyre \n  \n\nTimings\nDoors open: 7pm\nShow starts: 8pm \n\nBuy tickets:\nTickets for this show are £16 each. Tickets can be bought from WeGotTickets or contact the venue directly.
URL:https://lonewolfcomedy.co.uk/show/https-wegottickets-com-event-668369/
LOCATION:Littlebury Hotel\, Bicester\, 5 Kings End\, Bicester\, OX26 6DR\, United Kingdom
CATEGORIES:Comedy,Entertaiment,Event,Littlebury Hotel, Bicester
ATTACH;FMTTYPE=image/jpeg:https://lonewolfcomedy.co.uk/wp-content/uploads/2024/05/Ian-Stone-profile-scaled-e1639246138635-768x768-1.jpg
END:VEVENT
BEGIN:VEVENT
DTSTART;TZID=UTC:20251115T190000
DTEND;TZID=UTC:20251115T220000
DTSTAMP:20260417T182929
CREATED:20250704T125312Z
LAST-MODIFIED:20250704T125312Z
UID:23700-1763233200-1763244000@lonewolfcomedy.co.uk
SUMMARY:King's Sutton\, Saturday 15th November 2025
DESCRIPTION:Lone Wolf Comedy Club feat. MC Andrew Bird  Matt Bragg  Jarred Christmas\nShow details:\n \nMatt Bragg\nThe son of television warm up man Bobby Bragg\, Matt has been performing stand up all over the country for the last 7 years. With a unique\, low energy\, deadpan style and meticulously crafted material he has been gaining critical acclaim from audiences\, promoters and comedians alike. \nAs well as performing at some of the largest clubs in the UK\, he is tour support for Ricky Gervais\, Harry Hill\, Lloyd Griffith (Soccer AM)\, Suzi Ruffell\, Jason Manford\, John Bishop\, Phoenix Night’s Clinton Baptiste and Scott Bennett. He was also selected for Just The Tonic’s Big Value showcase at Edinburgh Festival in 2019 and finished runner up in Leicester Mercury’s Comedian of The Year 2020. \n‘’classic observation comedy\, delivered with effortless style’’ – RICKY GERVAIS \n‘’Jack Dee’s world view with Frank Skinner’s voice\, all wrapped in a mod’s fashion sense’’ – CHORTLE \n‘’Matt Bragg is brilliantly funny’’ – SUZY RAFFEL \n \nJarred Christmas\nNew Zealand Sensation Jarred Christmas is one of the most innovative and exciting stand-ups on the UK circuit. A sought-after headliner famed for his quick-witted spontaneity\, masterful skills of improvisation and energetic storytelling; Jarred is a regular at the Edinburgh Festival\, and at comedy clubs and International festivals around the globe. \nA dynamic onstage persona combined with the ability to improvise with anything that’s thrown his way makes Jarred’s comedy sizzle with originality. Early in his career he supported both Ross Noble and Tommy Tiernan on UK tours. \nJarred is an accomplished actor\, working with Warwick Davies both on stage and in the web series\, Dwarves Assemble. A highly versatile performer\, with tremendous energy and exuberance\, he has also amassed several successful stage performances in Panto. \n  \n \nAndrew Bird\nAndrew appeared on “The Russell Howard Hour” and supported Russell on tour including Bristol’s Ashton Gate Football stadium and six shows at The London Palladium. He’s also supported Rhod Gilbert\, Rob Brydon\, America’s Brian Regan and Michelle Wolfe on their only London shows and Michael McIntyre on an entire arena tour including Wembley and the O2. He’s written on the TV shows Jon Richardson’s Ultimate Worrier and 8 Out of 10 Cats Does Countdown. \n“A brilliantly funny comedian” – Russell Howard \n“Birdie supported me on my arena tour and made me laugh every\nnight. A truly excellent comedian” – Michael McIntyre \n  \n\nTimings\nDoors open: 7pm\nShow starts: 8pm \n\nBuy tickets:\nTickets for this show are £15 each. Tickets can be bought from WeGotTickets or contact the venue directly.
URL:https://lonewolfcomedy.co.uk/show/https-wegottickets-com-event-667862/
LOCATION:Millennium Memorial Hall\, Astrop Road\, King's Sutton\, OX17 3PG
CATEGORIES:Comedy,Entertaiment,Event,King's Sutton
ATTACH;FMTTYPE=image/jpeg:https://lonewolfcomedy.co.uk/wp-content/uploads/2025/05/jc-jarred-christmas-23.jpg
END:VEVENT
END:VCALENDAR