BEGIN:VCALENDAR
VERSION:2.0
PRODID:-//Lone Wolf - ECPv6.13.2//NONSGML v1.0//EN
CALSCALE:GREGORIAN
METHOD:PUBLISH
X-ORIGINAL-URL:https://lonewolfcomedy.co.uk
X-WR-CALDESC:Events for Lone Wolf
REFRESH-INTERVAL;VALUE=DURATION:PT1H
X-Robots-Tag:noindex
X-PUBLISHED-TTL:PT1H
BEGIN:VTIMEZONE
TZID:UTC
BEGIN:STANDARD
TZOFFSETFROM:+0000
TZOFFSETTO:+0000
TZNAME:UTC
DTSTART:20250101T000000
END:STANDARD
END:VTIMEZONE
BEGIN:VEVENT
DTSTART;TZID=UTC:20251010T190000
DTEND;TZID=UTC:20251010T220000
DTSTAMP:20260420T193555
CREATED:20250703T122543Z
LAST-MODIFIED:20250704T123651Z
UID:23667-1760122800-1760133600@lonewolfcomedy.co.uk
SUMMARY:Bicester\, Friday 10th October 2025
DESCRIPTION:Lone Wolf Comedy Club feat. Andrew Bird\, Danny Ward and Mark Simmons.\nShow details:\n \nDanny Ward\n\n\n\nDanny’s observational humor is up-beat and well honed\, and his easy-going style both endearing and very funny. One of the new breed of comics with a high energy set not reliant on smut or swearing\, Danny started comedy in late 2008 and has since established himself as comic to watch. \n  \nHe is booked at clubs across the UK from University gigs to 300 capacity Arts Centres as tour support to many big name acts. Danny has also performed to returning troops as part of the Decompression Tour in Cyprus for CSE. \n\n\n\n\n\n\n\n\n\n \n\n\n\n\n\nMark Simmons\nMark is an exceptional one-liner comedian. It won him a place in Dave’s prestigious Best Joke of The Fringe in Edinburgh 2017. His solo show at the festival\, One-Linerer was also a huge hit\, with sell out shows every day and was nominated Best Show by the Amused Moose Comedy Award Fringe Show 2017. He then continued this success with his follow-up show\, One-Linererer\, which was also a sell out! \nMark is constantly on the rise and since being in the finals of several noteworthy competitions\, such as Leicester Mercury Comedian of The Year\, So You Think You’re Funny and the NATY Award\, he has been in high demand for the top UK comedy clubs\, such as Glee\, Manford’s Comedy Club\, Comedy Central and Just The Tonic\, headlining the majority of them. Also\, he has been recently supporting Seann Walsh\, Rob Beckett and Rob Brydon on their national tours\, as well as one off shows supporting Michael McIntyre\, Sean Lock and Jack Dee. \n“Absolutely hilarious.” The Scotsman \n“Gags of the highest order” Broadway Baby \n“Master of one liners” one4review \n \nAndrew Bird\nAndrew appeared on “The Russell Howard Hour” and supported Russell on tour including Bristol’s Ashton Gate Football stadium and six shows at The London Palladium. He’s also supported Rhod Gilbert\, Rob Brydon\, America’s Brian Regan and Michelle Wolfe on their only London shows and Michael McIntyre on an entire arena tour including Wembley and the O2. He’s written on the TV shows Jon Richardson’s Ultimate Worrier and 8 Out of 10 Cats Does Countdown. \n“A brilliantly funny comedian” – Russell Howard \n“Birdie supported me on my arena tour and made me laugh every\nnight. A truly excellent comedian” – Michael McIntyre \n  \n\nTimings\nDoors open: 7pm\nShow starts: 8pm \n\nBuy tickets:\nTickets for this show are £16 each. Tickets can be bought from WeGotTickets or contact the venue directly.
URL:https://lonewolfcomedy.co.uk/show/https-wegottickets-com-event-667852/
LOCATION:Littlebury Hotel\, Bicester\, 5 Kings End\, Bicester\, OX26 6DR\, United Kingdom
CATEGORIES:Comedy,Entertaiment,Event,Littlebury Hotel, Bicester
ATTACH;FMTTYPE=image/jpeg:https://lonewolfcomedy.co.uk/wp-content/uploads/2025/07/Mark-simmons1.jpg
END:VEVENT
BEGIN:VEVENT
DTSTART;TZID=UTC:20251011T183000
DTEND;TZID=UTC:20251011T223000
DTSTAMP:20260420T193555
CREATED:20250704T123112Z
LAST-MODIFIED:20250704T124202Z
UID:23691-1760207400-1760221800@lonewolfcomedy.co.uk
SUMMARY:Grendon Underwood\, Saturday11th October 2025
DESCRIPTION:Lone Wolf Comedy Club feat. MC Andrew Bird  Danny Ward  Rob Rouse\nShow details:\n \nDanny Ward\nDanny’s observational humour is up-beat and well honed\, and his easy-going style both endearing and very funny. One of the new breed of comics with a high energy set not reliant on smut or swearing\, Danny started comedy in late 2008 and has since established himself as comic to watch. \nHe is booked at clubs across the UK from University gigs to 300 capacity Arts Centres as tour support to many big name acts. Danny has also performed to returning troops as part of the Decompression Tour in Cyprus for CSE. \n  \n \nRob Rouse\nOne of comedy’s most lively\, loveable and dynamic performers\, Rob won Channel 4’s Prestigious So You Think You’re Funny competition at the Edinburgh Festival in way back in 1998. He’s one of our best comic storytellers\, has performed all over the world and works long form narratives into hard-hitting\, uncompromising hilarious tales filled with warmth and a sense of compassion for our collective human frailties. \nThe Ex-Geography teacher has been described critically as “A born clown”\, those who really know him may lovingly use the word ‘idiot’. Either way\, Rob takes this trademark comedic storytelling to a career high in this show\, as he leads us on an irresistibly hilarious journey of enforced introspection and inspired rantings\, it’s a real roller-coaster of a show in which he is forced to relinquish any attempts to control his life and to face down literally one of the most awkward situations you’re ever likely to hear about. \nYou may also recognise him from 8 out of 10 cats\, Spoons\, The Friday Night Project\, Celebrity Juice\, Dave’s One night stand\, John Bishop’s Only Joking\, Live at the Comedy store\, maybe collecting one of his wife’s eBay purchases from your garage or perhaps seen him at one of his 8 Edinburgh fringe shows or 3 UK tours. So\, come and see him do what he does best; honest\, frank\, seriously funny stand-up. \n“He’s a man with genuinely funny bones” THE SUNDAY TIMES \n“Rob Rouse is a born clown\, a latter-day Stan Laurel” TIME OUT \n \nAndrew Bird\nAndrew appeared on “The Russell Howard Hour” and supported Russell on tour including Bristol’s Ashton Gate Football stadium and six shows at The London Palladium. He’s also supported Rhod Gilbert\, Rob Brydon\, America’s Brian Regan and Michelle Wolfe on their only London shows and Michael McIntyre on an entire arena tour including Wembley and the O2. He’s written on the TV shows Jon Richardson’s Ultimate Worrier and 8 Out of 10 Cats Does Countdown. \n“A brilliantly funny comedian” – Russell Howard \n“Birdie supported me on my arena tour and made me laugh every\nnight. A truly excellent comedian” – Michael McIntyre \n  \n\nTimings\nDoors open: 7pm\nShow starts: 8pm \n  \n\nBuy tickets:\nTickets for this show are £15 each. Tickets can be bought from WeGotTickets\, or contact the venue directly.
URL:https://lonewolfcomedy.co.uk/show/https-wegottickets-com-event-654102/
LOCATION:Grendon Underwood Village Hall\, Grendon Underwood Village Hall\, Grendon Underwood\, HP18 0SP
CATEGORIES:Comedy,Entertaiment,Event,Grendon Underwood Village Hall,Music
ATTACH;FMTTYPE=image/jpeg:https://lonewolfcomedy.co.uk/wp-content/uploads/2025/07/Danny-Ward-Copy.jpg
END:VEVENT
BEGIN:VEVENT
DTSTART;TZID=UTC:20251016T190000
DTEND;TZID=UTC:20251016T220000
DTSTAMP:20260420T193555
CREATED:20250624T201709Z
LAST-MODIFIED:20250703T124746Z
UID:23652-1760641200-1760652000@lonewolfcomedy.co.uk
SUMMARY:Long Buckby\, Thursday 16th October 2025
DESCRIPTION:Lone Wolf Comedy Club feat. Michael Fabbri\, Angela Barnes & host Andrew Bird\nShow details:\n \nMichael Fabbri\nMichael has been a professional stand – up comedian for over 15 years. He made his mark on the UK circuit by appearing on Channel 4‘s ‘So you think your Funny competition’. And has a superb reputation on the comedy circuit. He regularly performs at major comedy clubs throughout the UK and all over the world. Michael has supported some of the biggest name in comedy including Micky Flanagan\, Lucy Porter & Stephen K Amos. He is also an active writer for TV & Radio show. Fabbri manages to effortlessly slip between some harsh\, controversial topics to light-hearted silliness to make for a refreshingly eclectic and brilliantly funny act\, which has taken him to the Edinburgh Festival and beyond. \n“Exceptionally funny\, extremely sharp\, hugely enjoyable.” – The Scotsman \n“Startlingly insightful.” – The Guardian \n“Hilarious\, Clever\, sick and completely unrepeatable.” – BBC Online \n\n \nAngela Barnes\nAngela Barnes swapped a career in health and social care for stand-up in 2010 and hasn’t looked back.  Within just a couple of years she had won the BBC New Comedy Award\, and progressed to UK tours and starring as a regular on BBC’s Mock the Week and Live at the Apollo\, and Hypothetical on Dave. \nFans of Mock the Week will know that with 38 episodes in the history of the 17 years of the show\, Barnes was the highest female panellist for appearances. The first was in 2014 and contributed to her growing success in the comedy circuit with her style of observation comedy on her own life. \nShe is a firm favourite on BBC Radio 4\, having featured on The Now Show and The News Quiz – including a recent stint as the host – and she has also hosted BBC Radio 4 Extra’s Newsjack. Besides this\, Angela co-hosts the popular podcast We Are History with John O’Farrell (Acast). \n“A gloriously down-to-earth\, straight-talking and extremely funny comic” – GUARDIAN \n“A natural born storyteller… Hot Mess is hilarious” – VOICE MAG  \n”thoroughly entertaining… well written\, well balanced\, quality” – BROADWAY BABY \n  \n \nAndrew Bird\nANDREW BIRD appeared on “The Russell Howard Hour” and supported Russell on tour including Bristol’s Ashton Gate Football stadium and six shows at The London Palladium. He’s also supported Rhod Gilbert\, Rob Brydon\, America’s Brian Regan and Michelle Wolfe on their only London shows and Michael McIntyre on an entire arena tour including Wembley and the O2. He’s written on the TV shows Jon Richardson’s Ultimate Worrier and 8 Out of 10 Cats Does Countdown. \n“A brilliantly funny” – Russell Howard \n“Birdie supported my on my arena tour and made me laugh every night. Truly an excellent comedian” – Michael McIntyre \n  \n  \n  \n  \n\nTimings\nDoors open: 7pm\nShow starts: 8pm \n\nBuy tickets:\nTickets for this show are £15 each. Tickets can be bought from WeGotTickets\, or contact the venue directly.
URL:https://lonewolfcomedy.co.uk/show/https-wegottickets-com-event-666708/
LOCATION:Long Buckby RFC\, Station Road\, Long Buckby\, Northampton\, NN6 7QA\, United Kingdom
CATEGORIES:Comedy,Entertaiment,Event,Long Buckby RFC
ATTACH;FMTTYPE=image/jpeg:https://lonewolfcomedy.co.uk/wp-content/uploads/2025/02/angela_barnes_2025.jpg
END:VEVENT
END:VCALENDAR