BEGIN:VCALENDAR
VERSION:2.0
PRODID:-//Lone Wolf - ECPv6.13.2//NONSGML v1.0//EN
CALSCALE:GREGORIAN
METHOD:PUBLISH
X-WR-CALNAME:Lone Wolf
X-ORIGINAL-URL:https://lonewolfcomedy.co.uk
X-WR-CALDESC:Events for Lone Wolf
REFRESH-INTERVAL;VALUE=DURATION:PT1H
X-Robots-Tag:noindex
X-PUBLISHED-TTL:PT1H
BEGIN:VTIMEZONE
TZID:UTC
BEGIN:STANDARD
TZOFFSETFROM:+0000
TZOFFSETTO:+0000
TZNAME:UTC
DTSTART:20250101T000000
END:STANDARD
END:VTIMEZONE
BEGIN:VEVENT
DTSTART;TZID=UTC:20250910T190000
DTEND;TZID=UTC:20250910T220000
DTSTAMP:20260423T203518
CREATED:20250704T180414Z
LAST-MODIFIED:20250902T204803Z
UID:23712-1757530800-1757541600@lonewolfcomedy.co.uk
SUMMARY:Witney\, Wednesday 10th September 2025
DESCRIPTION:Lone Wolf Comedy Club feat. MC Andrew Bird Matt Richardson Marcel Lucont Steve Hall & Phil Nichol\nShow details:\n \nMC Andrew Bird\nAndrew appeared on “The Russell Howard Hour” and supported Russell on tour including Bristol’s Ashton Gate Football stadium and six shows at The London Palladium. He’s also supported Rhod Gilbert\, Rob Brydon\, America’s Brian Regan and Michelle Wolfe on their only London shows and Michael McIntyre on an entire arena tour including Wembley and the O2. He’s written on the TV shows Jon Richardson’s Ultimate Worrier and 8 Out of 10 Cats Does Countdown. \nNew Material from:\n \nMatt Richardson\nMatt has firmly established himself as one of the UK’s most exciting young performer and presenters – hosting the drive-time show on Virgin Radio. His TV credits include co-hosting the Xtra Factor alongside Caroline Flack\, Co-Hosting Celebrity Haunted Hotel Live! Alongside Christine Lampard and helming the live spin off show alone\, two one-off documentaries for ITV2 – Pampered Pooches\, Hollywood and Meet The Family Guys\, a series regular role on Viral Tap (ITV2)\, Nevermind The Buzzcocks\, Celebrity Juice\, Sweat The Small Stuff\, Big Brothers Bit on the Side\, Fake Reaction\, Its Not Me It’s You\, I’m a Celebrity Get Me out of here Now! and countless other shows. \n \nMarcel Lucont\nMarcel has performed at prestigious comedy festivals and venues around the world\, including the Edinburgh Festival Fringe\, the Melbourne International Comedy Festival and the Soho Theatre in London. His solo shows have garnered rave reviews and multiple awards\, including the Amused Moose Award for Best Comedy Show at the Edinburgh Fringe and the Best Sketch\, Character or Improv act by the Chortle Awards. \n \nSteve Hall\nSteve has directed many critically acclaimed live shows\, including the 2007 Edinburgh Comedy Award nominated show from Pappy’s\, Tom Ward’s first two Edinburgh shows\, Norris and Parker’s breakthrough show See You At The Gallows\, and Annie McGrath’s brilliant 2019 show Shepherd. He has also been parachuted in many times at the last minute to turn 1 star shows into 3 star shows\, usually in late July. He has also worked providing joke consultancy and punch up with comedians such as Iain Stirling\, Steve Bugeja\, Chris Turner and Ashley Blaker. \nRecently\, Steve supported Frank Skinner on Tour in 2024 and opened for him at The Gielgud Theatre in August 2024. \n  \n \nHeadline Act – Phil Nichol\nTop Comedian Phil Nichol is a truly unique performer. An acclaimed actor\, award winning comedian\, producer\, presenter\, writer and musician there is no end to his talent.\nPhil is an energetic and exciting performer with an unquenchable thirst to break boundaries and innovate with his work. His skill as an improviser whether it be musical\, comedy or straight is unparalled. With a surreal edge to some of his mischievous rantings Nichol always brings something new to the stage\, his keen sense of fun and eye for the shocking and absurd has cemented his position as one of the best comedians on the circuit today. His assured and award winning performances in his theatrical work have attracted critical accolades and see him in great demand as an actor. \n  \n  \n\nTimings\nDoors open: 7pm\nShow starts: 8pm \n\nBuy tickets:\nTickets for this show are £10 each. Tickets can be bought from WeGotTickets or contact the venue directly.
URL:https://lonewolfcomedy.co.uk/show/https-wegottickets-com-event-667858/
LOCATION:The Red Lion\, 1-3 Cornstreet\, Witney\, OX28 6DB
CATEGORIES:Comedy,Entertaiment,Event
ATTACH;FMTTYPE=image/jpeg:https://lonewolfcomedy.co.uk/wp-content/uploads/2025/07/Phil-Nichol.jpg
END:VEVENT
BEGIN:VEVENT
DTSTART;TZID=UTC:20250912T190000
DTEND;TZID=UTC:20250912T220000
DTSTAMP:20260423T203518
CREATED:20250703T114641Z
LAST-MODIFIED:20250709T145442Z
UID:23663-1757703600-1757714400@lonewolfcomedy.co.uk
SUMMARY:Bicester\, Friday 12th September 2025
DESCRIPTION:Lone Wolf Comedy Club feat. Andrew Bird\, Dave Longley and Surprise Guest.\nShow details:\n \nDave Longley\n\n\n\nLongley’s towering stage presence and intensity\, combined with his cutting wit have made him one of the most popular and controversial circuit comics in the UK\, whether it’s doling out thought-provoking insights or revelling in toilet humour\, Longley is a gifted wordsmith with great audience interaction skills. \nDavid has a humble silliness which ingratiates him to audiences\, he delivers deadpan accounts of his everyday life which are shockingly honest\, well considered and divinely funny\, maintaining a rapport with the audience that is at once edgy and accessible\, engaging the whole room. \n‘’Acid tongued and as sharp as a barrel full of tacks… As intense and intelligent performer as you’re likely to see’’ – THE LIST \n‘’Highly original and bloody funny’’ – THREE WEEKS \n\n\n\n\n\n\n\n\n\n \n\n\n\n\n\nSurprised Guest\nThis month\, a very special guest is dropping into Lone Wolf Comedy Club for the very first time. We can’t say who it is (where’s the fun in that?)\, but let’s just say they’re no stranger to big stages and belly laughs. If you know\, you know – and if you don’t\, you’ll definitely want to be in the room when they hit the mic. Trust us\, this is one you won’t want to miss… \n \nAndrew Bird\nAndrew appeared on “The Russell Howard Hour” and supported Russell on tour including Bristol’s Ashton Gate Football stadium and six shows at The London Palladium. He’s also supported Rhod Gilbert\, Rob Brydon\, America’s Brian Regan and Michelle Wolfe on their only London shows and Michael McIntyre on an entire arena tour including Wembley and the O2. He’s written on the TV shows Jon Richardson’s Ultimate Worrier and 8 Out of 10 Cats Does Countdown. \n“A brilliantly funny comedian” – Russell Howard \n“Birdie supported me on my arena tour and made me laugh every\nnight. A truly excellent comedian” – Michael McIntyre \n  \n\nTimings\nDoors open: 7pm\nShow starts: 8pm \n\nBuy tickets:\nTickets for this show are £16 each. Tickets can be bought from WeGotTickets or contact the venue directly.
URL:https://lonewolfcomedy.co.uk/show/https-wegottickets-com-event-667847/
LOCATION:Littlebury Hotel\, Bicester\, 5 Kings End\, Bicester\, OX26 6DR\, United Kingdom
CATEGORIES:Comedy,Entertaiment,Event,Littlebury Hotel, Bicester
ATTACH;FMTTYPE=image/jpeg:https://lonewolfcomedy.co.uk/wp-content/uploads/2025/07/DaveLongleyPortrait.jpg
END:VEVENT
BEGIN:VEVENT
DTSTART;TZID=UTC:20250913T190000
DTEND;TZID=UTC:20250913T220000
DTSTAMP:20260423T203518
CREATED:20250704T113829Z
LAST-MODIFIED:20250709T145330Z
UID:23685-1757790000-1757800800@lonewolfcomedy.co.uk
SUMMARY:The Garden Tipi\, Saturday 13th September 2025
DESCRIPTION:Lone Wolf Comedy Club feat. MC Andrew Bird\, Charlie Baker\, Surprise Guest\nShow details:\n \nCharlie Baker\nCharlie’s versatile talents as a stand-up comedian\, actor\, and highly acclaimed jazz-singer have seen him earn a reputation as ‘a superior take on the modern showman’ (Guardian). On screen\, he has starred in countless shows including The Last Leg\, Harry Hill’s Tea Time\, Comedy Central at the Comedy Store\, The Great British Bake-Off: An Extra Slice\, Never Mind the Buzzcocks\, Richard Osman’s House of Games\, Edinburgh Comedy Fest Live\, The Dog Ate My Homework and Channel 4’s Comedy Gala. \nCharlie starred in the leading role in Harry Hill’s Tony! The Tony Blair Rock Opera at London’s Park Theatre\, receiving four stars from The Times. His acting talents have also seen him star in Back\, Eastenders\, Vexed\, Doctor Who\, Miranda\, the TV adaptation of Four Weddings and a Funeral\, and The Boy In The Striped Pyjamas. \nCharlie can be heard on Talksport every Saturday for the Game Day Warm Up as well as covering on weekdays on Hawksbee & Jacobs. He’s also a regular on The Football’s On and The Premier League Show. \nFollowing his smash-hit UK tour in 2023/2024 with his stand-up show 24 Hour Pasty People\, Charlie’s special was filmed at Torquay’s Babbacombe Theatre and is available to stream now on NextUp. \n \nSurprised Guest\nThis month\, a very special guest is dropping into Lone Wolf Comedy Club for the very first time. We can’t say who it is (where’s the fun in that?)\, but let’s just say they’re no stranger to big stages and belly laughs. If you know\, you know – and if you don’t\, you’ll definitely want to be in the room when they hit the mic. Trust us\, this is one you won’t want to miss… \n \nAndrew Bird\nAndrew appeared on “The Russell Howard Hour” and supported Russell on tour including Bristol’s Ashton Gate Football stadium and six shows at The London Palladium. He’s also supported Rhod Gilbert\, Rob Brydon\, America’s Brian Regan and Michelle Wolfe on their only London shows and Michael McIntyre on an entire arena tour including Wembley and the O2. He’s written on the TV shows Jon Richardson’s Ultimate Worrier and 8 Out of 10 Cats Does Countdown. \n“A brilliantly funny comedian” – Russell Howard \n“Birdie supported me on my arena tour and made me laugh every\nnight. A truly excellent comedian” – Michael McIntyre \n  \n\nTimings\nDoors open: 6:30pm\nShow starts: 8pm \n  \n\nBuy tickets:\nTickets for this show are £16 each. Tickets can be bought from WeGotTickets\, or contact the venue directly.
URL:https://lonewolfcomedy.co.uk/show/https-wegottickets-com-event-667855/
LOCATION:The Garden Tipi\, Bushy Lane\, Preston Bissett\, MK18 4ND\, United Kingdom
CATEGORIES:Comedy,Entertaiment,Event,Music,Preston Bissett Nurserie and Country Shop in Tipi
ATTACH;FMTTYPE=image/jpeg:https://lonewolfcomedy.co.uk/wp-content/uploads/2024/03/Chaarlie-Baker-1.jpg
END:VEVENT
BEGIN:VEVENT
DTSTART;TZID=UTC:20250914T170000
DTEND;TZID=UTC:20250914T180000
DTSTAMP:20260423T203518
CREATED:20250723T211400Z
LAST-MODIFIED:20250723T211400Z
UID:23724-1757869200-1757872800@lonewolfcomedy.co.uk
SUMMARY:Charlton-On-Otmoor Sunday 14th September 2025
DESCRIPTION:Lone Wolf Comedy Club feat. Andrew Bird Matt Bragg Lou Conran Eddy Brimson\nShow details:\n \nMatt Bragg\n\n\n\nThe son of television warm up man Bobby Bragg\, Matt has been performing stand up all over the country for the last 7 years. With a unique\, low energy\, deadpan style and meticulously crafted material he has been gaining critical acclaim from audiences\, promoters and comedians alike. \nAs well as performing at some of the largest clubs in the UK\, he is tour support for Ricky Gervais\, Harry Hill\, Lloyd Griffith (Soccer AM)\, Suzi Ruffell\, Jason Manford\, John Bishop\, Phoenix Night’s Clinton Baptiste and Scott Bennett. He was also selected for Just The Tonic’s Big Value showcase at Edinburgh Festival in 2019 and finished runner up in Leicester Mercury’s Comedian of The Year 2020. \n‘’classic observation comedy\, delivered with effortless style’’ – RICKY GERVAIS \n‘’Jack Dee’s world view with Frank Skinner’s voice\, all wrapped in a mod’s fashion sense’’ – CHORTLE \n‘’Matt Bragg is brilliantly funny’’ – SUZY RAFFEL \n\n\n\n\n\n\n\n\n\n \n\n\n\n\n\nLou Conran\nLou Conran is a comedian\, writer\, performer\, and a superlative storyteller. She has performed stand up since 2005 all over the UK and more recently Australia\, and has the reputation as being an exceptional MC. \nAs a writer\, she has written for R3’s The Verb\, R4’s The Show What You Wrote\, CBBC presentation with Hacker T Dog\, and more notably was a regular contributor to the Standard Issue Magazine. \nShe has appeared on Radio: R4’s Woman’s Hour\, R4’s miniseries ‘You’ve Got To Laugh’\, and R4’s It’s Not What You Know\, BBC World Service ‘Outlook’. Podcasts: The Grief Cast\, The Naked Podcast\, Do The Right Thing\, and What Goes On Here. Lou has had various TV incarnations\, but more recently CH4’s First Dates Hotel\, ITV’s Lorraine\, and most most significantly an abattoir worker on Emmerdale\, and a midwife on Hollyoaks. \n \nEddy Brimson\nBest selling author\, former Eastenders actor\, and international comedian – Eddy Brimson\, is one of the most in demand headline acts on both the UK and International circuits. He has played festivals worldwide\, from The Alps to Australia! \n“If there were a school of comedy in the British Isles then Brimson would be top of the class.” Sydney Herald \nEddy is a bestselling author on football fan culture\, with over 500\,000 sales worldwide. He has written two novels: Hooligan\, and the critically acclaimed Naughty Boy. \nEddy’s colourful television career includes the likes of Thin Blue Line\, Casualty\, Between The Lines\, Silent Witness\, Absolutely Fabulous and EastEnders – he was the vicious lout who turned over Frank Butcher’s car lot. He also played a major role as a gang member in the HBO movie The Infiltrator. But thanks to a fit body and a completely bald head – he started shaving it at the age of 24 – he found his roles were limited: “I was always a thug\, a gay guy or a Hare Krishna\,” Eddy says. Eddy Brimson has emerged to become one of the leading headline comics in British comedy and around the world. Specialising in what he describes as “observational filth”\, Eddy Brimson is a regular at all the country’s leading venues and is a long-time friend and favourite of The Comedy Cabaret. \n \nAndrew Bird\nAndrew appeared on “The Russell Howard Hour” and supported Russell on tour including Bristol’s Ashton Gate Football stadium and six shows at The London Palladium. He’s also supported Rhod Gilbert\, Rob Brydon\, America’s Brian Regan and Michelle Wolfe on their only London shows and Michael McIntyre on an entire arena tour including Wembley and the O2. He’s written on the TV shows Jon Richardson’s Ultimate Worrier and 8 Out of 10 Cats Does Countdown. \n“A brilliantly funny comedian” – Russell Howard \n“Birdie supported me on my arena tour and made me laugh every\nnight. A truly excellent comedian” – Michael McIntyre \n  \n\nTimings\nDoors open: 5pm\nShow starts: 6pm \n\nBuy tickets:\nTickets for this show are £16 each. Tickets can be bought from WeGotTickets or contact the venue directly.
URL:https://lonewolfcomedy.co.uk/show/https-wegottickets-com-event-667875/
LOCATION:The Crown\, High Street\, Charlton-On-Otmoor\, Kidlington\, OX5 2UQ\, United Kingdom
CATEGORIES:Comedy,Entertaiment,Event,Littlebury Hotel, Bicester
ATTACH;FMTTYPE=image/webp:https://lonewolfcomedy.co.uk/wp-content/uploads/2025/07/Eddy-Brimson.webp
END:VEVENT
END:VCALENDAR