BEGIN:VCALENDAR
VERSION:2.0
PRODID:-//Lone Wolf - ECPv6.13.2//NONSGML v1.0//EN
CALSCALE:GREGORIAN
METHOD:PUBLISH
X-WR-CALNAME:Lone Wolf
X-ORIGINAL-URL:https://lonewolfcomedy.co.uk
X-WR-CALDESC:Events for Lone Wolf
REFRESH-INTERVAL;VALUE=DURATION:PT1H
X-Robots-Tag:noindex
X-PUBLISHED-TTL:PT1H
BEGIN:VTIMEZONE
TZID:UTC
BEGIN:STANDARD
TZOFFSETFROM:+0000
TZOFFSETTO:+0000
TZNAME:UTC
DTSTART:20260101T000000
END:STANDARD
END:VTIMEZONE
BEGIN:VEVENT
DTSTART;TZID=UTC:20260711T160000
DTEND;TZID=UTC:20260711T230000
DTSTAMP:20260423T144312
CREATED:20260104T192357Z
LAST-MODIFIED:20260218T150555Z
UID:23783-1783785600-1783810800@lonewolfcomedy.co.uk
SUMMARY:The Garden Tipi-TipiFest Saturday 11th July 2026
DESCRIPTION:Lone Wolf Comedy Club feat. Felicity Ward Marcus Brigstocke MC Andrew Bird\nShow details:\n \nFelicity Ward\nBorn in a small town just a podcast north of Sydney\, Australia\, she started stand up in 2008…three years before being born. she is referring to herself in the third person and it’s making her very uncomfortable. \nBefore she started stand up\, she wrote and starred in the Ronnie Johns half hour sketch show\, then had a bit of a nervo and moved to straight stand up. \nShe’s spoken at length in her stand up and personally about her struggles with mental health including presenting a documentary felicity’s mental mission and her netflix special for live at the bbc series: what if there is no toilet? \nThings you may not know: \nShe’s broken her right arm three times. Both bones. Every time. \nShe wishes she was a better dancer so she could do better tik toks \nShe’s still completing her taxes from the past two years. \nShe was horrified that dominos made cheeseburger pizza.  Until she tried it. And now is the only pizza she orders. \n \nMarcus Brigstocke\nMarcus is regarded as a major comedy\, writing\, and acting talent\, performing stand up to sell-out audiences on tour nationally. His last tour show\, Devil May Care\, which was filmed at Wilton’s Hall is now available to watch on Amazon Prime. \nBBC Radio 4 has become somewhat of a second home to Marcus with regular appearances on I’m Sorry I Haven’t a Clue\, The Now Show and Just a Minute; he has written and recorded three series and four specials of his hit show Giles Wemmbley-Hogg Goes Off. Most recently\, he co-starred alongside Kerry Godliman\, in three series of The Wilsons Save The World. \nMarcus has notched up an impressive list of TV credits including Steph’s Packed Lunch (C4)\, Comedians Giving Lectures (DAVE)\, House of Games (BBC Two)\, The Graham Norton Show (BBC One)\, Famous and Fighting Crime (C4)\, team captain on Argumental (Dave)\, and host of The Late Edition and I’ve Never Seen Star Wars (BBC4). Other appearances include; Live at the Apollo (BBC One)\, Have I Got News for You (BBC One)\, Mock the Week (BBC Two)\, QI (BBC Two)\, Sorry I’ve Got No Head (BBC One)\, The Late Edition (BBC4)\, and the 11 O’Clock Show (Channel 4). \n \nAndrew Bird\nAndrew appeared on “The Russell Howard Hour” and supported Russell on tour including Bristol’s Ashton Gate Football stadium and six shows at The London Palladium. He’s also supported Rhod Gilbert\, Rob Brydon\, America’s Brian Regan and Michelle Wolfe on their only London shows and Michael McIntyre on an entire arena tour including Wembley and the O2. He’s written on the TV shows Jon Richardson’s Ultimate Worrier and 8 Out of 10 Cats Does Countdown. \n“A brilliantly funny comedian” – Russell Howard \n“Birdie supported me on my arena tour and made me laugh every\nnight. A truly excellent comedian” – Michael McIntyre \n \nAdam O’Connell\nThis talented young performer has been captivating audiences with his guitar and vocals for the past eight years\, and more recently\, he’s expanded his musical talents to include piano as well. \n \nCrazyHeart\nIs a dynamic acoustic band known for their stunning vocal harmonies and versatile sound. Blending acoustic jazz\, Americana\, pop\, rock\, and upbeat party favorites\, they bring warmth\, energy\, and a touch of elegance to every performance. \n  \n  \n\nTimings\nDoors open: 4pm \nLive Music: 5 – 7.30pm \nShow starts: 8pm – 10pm \nLast Orders: 11pm \n  \n  \n\nBuy tickets:\nTickets can be bought from WeGotTickets\, or contact the venue directly.
URL:https://lonewolfcomedy.co.uk/show/https-wegottickets-com-event-687907/
LOCATION:The Garden Tipi\, Bushy Lane\, Preston Bissett\, MK18 4ND\, United Kingdom
CATEGORIES:Comedy,Entertaiment,Event,Music
ATTACH;FMTTYPE=image/png:https://lonewolfcomedy.co.uk/wp-content/uploads/2026/01/FB.png
END:VEVENT
BEGIN:VEVENT
DTSTART;TZID=UTC:20260814T190000
DTEND;TZID=UTC:20260814T223000
DTSTAMP:20260423T144312
CREATED:20260325T100005Z
LAST-MODIFIED:20260325T100005Z
UID:23874-1786734000-1786746600@lonewolfcomedy.co.uk
SUMMARY:Bicester Friday 14th August 2026
DESCRIPTION:Lone Wolf Comedy Club feat. Andrew Bird Joe Wells Paul Tonkinson\nShow details:\n \nJoe Wells\n\n\n\nJoe made his name as a political comedian with critically acclaimed Fringe shows including ‘Night Of The Living Tories’\, ’10 Things I Hate About UKIP’ and ‘I Hope I Die Before I Start Voting Conservative’\, in recent years he has found online and live success with more personal material about mental health and being autistic. \nJoe is a favourite amongst other comedians and has supported Frankie Boyle\, Alexei Sayle and Stephen K Amos. \nIn 2020 Joe went viral with his stand up clip ‘Joe Wells on having a non-autistic brother’ which gained over 4.5 million views across Twitter\, Facebook\, Tiktok and YouTube. With more clips gaining views in the millions since Joe now has 160k social media followers across platforms. \nIn 2023 Joe embarked on his first solo tour selling out venues of up to 300\, this was followed by another successful solo tour in 2024. \nJoe’s podcast Neurodivergent Moments with Abigoliah Shamaun is available here.\nJoe regularly speaks about neurodiversity for corporate and charity clients. \n  \n\n\n\n\n\n\n\n\n\n \n\n\n\n\n\nPaul Tonkinson\nA sensational live performer\, Yorkshire man\, marathon runner and former (double award-winning) Time Out Comedian of the Year\, Paul Tonkinson has long upheld his esteemed reputation as one of the finest stand-ups the UK has to offer. With a unique and distinctive style\, Tonkinson is noted for his effervescent physicality and skilful impressions\, which bring alive exuberant\, tender comic reflections on love\, family and the day-to-day idiosyncrasies of 21st century living. A plethora of first-class material\, combined with tremendous charm and irrepressible\, infectious energy make for quite a formidable talent. \nOn TV\, he’s most recently performed on BBC One’s Michael Mcintyre’s Comedy Roadshow and Comedy Central’s The Comedy Store and The World Stands-up. He was recently a contestant on Ch. 4`s hit show Celebrity Come Dine With Me\, proving he’s not just a dazzling stand-up talent\, but a whizz in the kitchen\, scooping first place to win the cash prize for charity. Back in the day\, when he was a mere whippersnapper\, he had a stint presenting Ch. 4’s The Big Breakfast and he has also presented radio shows on XFM in London and Manchester. He has just completed a stint as a Programme Associate on BBC One’s Michael Mcintyre Chat Show. \n“Excellent… extremely talented… brilliant” – Time Out \n  \n \nAndrew Bird\nAndrew appeared on “The Russell Howard Hour” and supported Russell on tour including Bristol’s Ashton Gate Football stadium and six shows at The London Palladium. He’s also supported Rhod Gilbert\, Rob Brydon\, America’s Brian Regan and Michelle Wolfe on their only London shows and Michael McIntyre on an entire arena tour including Wembley and the O2. He’s written on the TV shows Jon Richardson’s Ultimate Worrier and 8 Out of 10 Cats Does Countdown. \n“A brilliantly funny comedian” – Russell Howard \n“Birdie supported me on my arena tour and made me laugh every\nnight. A truly excellent comedian” – Michael McIntyre \n  \n\nTimings\nDoors open: 7pm\nShow starts: 8pm \n\nBuy tickets:\nTickets for this show are £16 each. Tickets can be bought from WeGotTickets or contact the venue directly.
URL:https://lonewolfcomedy.co.uk/show/https-wegottickets-com-f-17435/
LOCATION:Littlebury Hotel\, Bicester\, 5 Kings End\, Bicester\, OX26 6DR\, United Kingdom
CATEGORIES:Comedy,Entertaiment,Event,Littlebury Hotel, Bicester
ATTACH;FMTTYPE=image/jpeg:https://lonewolfcomedy.co.uk/wp-content/uploads/2026/03/joewellsjustthecomedyclub.jpg
END:VEVENT
BEGIN:VEVENT
DTSTART;TZID=UTC:20260911T190000
DTEND;TZID=UTC:20260911T223000
DTSTAMP:20260423T144312
CREATED:20260325T105258Z
LAST-MODIFIED:20260325T105258Z
UID:23878-1789153200-1789165800@lonewolfcomedy.co.uk
SUMMARY:Bicester Friday 11th September 2026
DESCRIPTION:Lone Wolf Comedy Club feat. Hayley Ellis Harry Stachini TBC\nShow details:\n \nTBC\n\n\n\n  \n\n\n\n\n\n\n\n\n\n \n\n\n\n\n\nHarry Stachini\nA masterful storyteller with one of the most amiable and easy-going stage presences on the comedy circuit today. Now a regular at the UK circuit’s top comedy clubs ‘The Comedy Store’ and festivals. Harry has continued to rise beyond the comedy ladder of the UK to become an international headliner performing at ‘The Laughter Factory’\, Dubai’s major comedy club. On top of that\, Harry has headlined shows in Australia at the renowned ‘Comedy Lounge’ in Perth and completed a three-month tour of Australia’s major comedy festivals\, Adelaide\, Melbourne and Brisbane. Performing as part of the highly prestigious and long-standing ‘Mary Tobin Presents – Best of The Edinburgh Festival’. \nHis online videos have amassed hundreds of millions of views across his social media. His first podcast series\, The Staff Room Podcast (where teachers share their anonymous stories from the classroom) was nominated for Best Comedy at The British Podcast Awards. Watch out for his latest podcast\, All Made Up\, which brings storytelling alive alongside guests such as Daniel Sloss\, Jason Bryne and many more. He has already worked alongside some of the best names in the industry\, including Russell Kane\, Milton Jones\, Jason Byrne and Jessica Fostekew to name a few\, and he will no doubt become a name to look out for in the future. \n ‘’A talented new comedian… first-rate material’’ – SMACKED ARSE COMEDY \n‘’Well observed characterisations and anecdotes…a good handle on who he is as a performer’’ – THE SKINNY \n‘’Harry is a must-see act with oodles of onstage charm and compelling\, inventive storytelling’’ – SPOTLIGHTING  \n  \n \nHayley Ellis\nHayley is a former regular sight gag contributor for the Russell Howard’s Good News television programme. (Avalon Television) and has also written for 8 out of 10 Cats. She has appeared on MTV’s “Why aye love Geordie Shore” and “Comedy Set Lists” for Virgin television. She can also sometimes be heard on your wireless. (Absolute Radio) and her sketches and jokes have appeared on Newsjack (Radio 4) \n“Edinburgh Fringe: 25 funniest jokes of all-time” – THE INDEPENDENT \n“Edinburgh Fringe: Best 21 jokes told at the festival in the last decade” – THE MIRROR \n“50 of the best ever jokes at the Edinburgh Fringe” – WOW247 \n  \n\nTimings\nDoors open: 7pm\nShow starts: 8pm \n\nBuy tickets:\nTickets for this show are £16 each. Tickets can be bought from WeGotTickets or contact the venue directly.
URL:https://lonewolfcomedy.co.uk/show/https-wegottickets-com-f-17437/
LOCATION:Littlebury Hotel\, Bicester\, 5 Kings End\, Bicester\, OX26 6DR\, United Kingdom
CATEGORIES:Comedy,Entertaiment,Event,Littlebury Hotel, Bicester
ATTACH;FMTTYPE=image/jpeg:https://lonewolfcomedy.co.uk/wp-content/uploads/2026/03/Harry-Stachinii.jpeg
END:VEVENT
BEGIN:VEVENT
DTSTART;TZID=UTC:20261002T190000
DTEND;TZID=UTC:20261002T220000
DTSTAMP:20260423T144312
CREATED:20260325T154054Z
LAST-MODIFIED:20260325T154054Z
UID:23883-1790967600-1790978400@lonewolfcomedy.co.uk
SUMMARY:The Garden Tipi Friday 2nd October 2026
DESCRIPTION:Lone Wolf Comedy Club feat. Andrew Bird Lily Phillips Andy Askins\n \nLily Phillips\nLily is one of the most exciting up and coming voices in comedy in the UK. She is BBC New Comedy Award Finalist 2021\, Runner Up at the 2019 Leicester Square New Comedian of the Year and Funny Women Finalist 2018. She is a series regular on The Stand Up Sketch Show (ITV2 – series 2\, 3\, & 4 and the Christmas special). Her TV credits also include Period Dramas (BBC3)\, The Joy Of Missing Out (All4)\, The Fake Podcast show (E4) and Comedy Central Live. ‘Perfectly judged’ 4* Chortle \n‘An hour of non-stop laughing’’ – Voice Mag \n‘Perfectly judged’’ – Chortle \n‘Exudes a life affirming joyfulness’’ –   Funny Women \n \nAndy Askins\nAndy has built a reputation as a distinctive and original talent as a performer and joke writer. He has performed with Michael McIntyre\, Lee Evans\, Jason Manford\, Alan Carr\, Jimmy Carr\, Micky Flanagan\, Harry Hill\, Rhod Gilbert\, Bill Bailey and Jack Dee. He has performed at The Edinburgh Festival in 2016 and also at the Melbourne Comedy Festival 2018 and Adelaide Comedy Festival 2019. \nOn TV screens\, Andy appeared at The Hackney Empire for The John Bishop Show (BBC1) alongside a stellar line-up from the worlds of comedy and music\, Andy was then invited back to perform on the John Bishop Christmas Show at The Lyceum Theatre with Kylie Minogue and Olly Murrs. \nHe has recorded TV performances for Comedy Central and featured on two series of ‘Live The Comedy Store’  two series of ‘The World Stands Up’’ and also on BBC Scotland’s\, ‘Comedians at the Kings’ tv series. \nHe has performed all over the world and in venues as varied as\, a company of soldiers in Saddam Hussein’s Palace in Iraq\, to a sold-out Royal Albert Hall in aid of the Teenage Cancer Trust. \n \nAndrew Bird\nAndrew appeared on “The Russell Howard Hour” and supported Russell on tour including Bristol’s Ashton Gate Football stadium and six shows at The London Palladium. He’s also supported Rhod Gilbert\, Rob Brydon\, America’s Brian Regan and Michelle Wolfe on their only London shows and Michael McIntyre on an entire arena tour including Wembley and the O2. He’s written on the TV shows Jon Richardson’s Ultimate Worrier and 8 Out of 10 Cats Does Countdown. \n“A brilliantly funny comedian” – Russell Howard \n“Birdie supported me on my arena tour and made me laugh every\nnight. A truly excellent comedian” – Michael McIntyre \n  \n\nTimings\nDoors open: 7pm\nShow starts: 8pm \n  \n\nBuy tickets:\nTickets for this show are £16 each. Tickets can be bought from WeGotTickets\, or contact the venue directly.
URL:https://lonewolfcomedy.co.uk/show/https-wegottickets-com-f-17478/
LOCATION:The Garden Tipi\, Bushy Lane\, Preston Bissett\, MK18 4ND\, United Kingdom
CATEGORIES:Comedy,Entertaiment,Event,Music,Preston Bissett Nurserie and Country Shop in Tipi
ATTACH;FMTTYPE=image/webp:https://lonewolfcomedy.co.uk/wp-content/uploads/2025/07/Lily-Philips.webp
END:VEVENT
END:VCALENDAR