BEGIN:VCALENDAR
VERSION:2.0
PRODID:-//Lone Wolf - ECPv6.13.2//NONSGML v1.0//EN
CALSCALE:GREGORIAN
METHOD:PUBLISH
X-WR-CALNAME:Lone Wolf
X-ORIGINAL-URL:https://lonewolfcomedy.co.uk
X-WR-CALDESC:Events for Lone Wolf
REFRESH-INTERVAL;VALUE=DURATION:PT1H
X-Robots-Tag:noindex
X-PUBLISHED-TTL:PT1H
BEGIN:VTIMEZONE
TZID:UTC
BEGIN:STANDARD
TZOFFSETFROM:+0000
TZOFFSETTO:+0000
TZNAME:UTC
DTSTART:20240101T000000
END:STANDARD
END:VTIMEZONE
BEGIN:VEVENT
DTSTART;TZID=UTC:20240314T183000
DTEND;TZID=UTC:20240314T220000
DTSTAMP:20260424T054549
CREATED:20240110T164603Z
LAST-MODIFIED:20240217T165323Z
UID:23093-1710441000-1710453600@lonewolfcomedy.co.uk
SUMMARY:Brackley\, March 14th 2024
DESCRIPTION:Lone Wolf Comedy Club feat. Mike Gunn\, Paul Tonkinson & host Andrew Bird\nShow details:\n \nMike Gunn\nMike Gunn’s history is as interesting and entertaining as his comedy. A misspent youth and a series of grim jobs cultivated his cynical outlook on life and a perverse desire led him to the world of stand-up. A self-confessed pessimist\, he describes himself as “not a natural choice for a career in laughter”. He has a rare ability to walk close to the line of what audiences find acceptable and yet still remain likable and funny. His reputation for being a bit unfriendly\, a touch dark and even morose is really not true. In real life he’s loving\, warm and philanthropic. Just a bit misunderstood. \n  \n“One of the 10 leading stand-ups in Britain” – Independent on Sunday \n“Mike Gunn will make you die laughing” – The Guardian \n“Piercingly funny…Fiendishly funny as dry as a dead mans bones” – The List \n  \n \nPaul Tonkinson\nA two-time winner of the Time Out Comedy Award\, Paul Tonkinson has reputation for being one of the finest stand up comedians in Britain. \nPaul regularly appears at all the major comedy clubs and international comedy festivals across the world\, including the prestigious Montreal Just For Laughs festival\, where he hosted the esteemed Britcom Gala. He has toured as far and wide as Australia\, New Zealand\, Norway\, Dubai\, Singapore and Hong Kong. \nHis TV appearances include Michael McIntyre’s Comedy Roadshow (BBC One)\, Live at The Comedy Store (Comedy Central) and The World Stands Up (Paramount Comedy). \n  \n\n\n\nExcellent… extremely talented… brilliant. \n\nTIME OUT\n\n\n\n\n\n\nCharismatic\, combines the visual trickery of a Lee Evans with the improvisational skills of Paul Merton. \n\nTHE INDEPENDENT\n\n\n  \n \nAndrew Bird\nAndrew appeared on “The Russell Howard Hour” and supported Russell on tour including Bristol’s Ashton Gate Football stadium and six shows at The London Palladium. He’s also supported Rhod Gilbert\, Rob Brydon\, America’s Brian Regan and Michelle Wolfe on their only London shows and Michael McIntyre on an entire arena tour including Wembley and the O2. He’s written on the TV shows Jon Richardson’s Ultimate Worrier and 8 Out of 10 Cats Does Countdown. \n  \n“A brilliantly funny comedian” – Russell Howard \n“Birdie supported me on my arena tour and made me laugh every night. Truly an excellent comedian” – Michael McIntyre \n  \n  \n\nTimings\nDoors open: 6:30pm\nShow starts: 8pm \n\nBuy tickets:\nTickets for this show are £15 each. Tickets can be bought from WeGotTickets\, or contact the venue directly.
URL:https://lonewolfcomedy.co.uk/show/brackley-march-14th-2024/
CATEGORIES:Brackley Town FC,Comedy
ATTACH;FMTTYPE=image/jpeg:https://lonewolfcomedy.co.uk/wp-content/uploads/2024/01/Crow-1.jpg
END:VEVENT
END:VCALENDAR